BEGIN:VCALENDAR
VERSION:2.0
PRODID:-//Escoteiros SP - ECPv6.15.20//NONSGML v1.0//EN
CALSCALE:GREGORIAN
METHOD:PUBLISH
X-WR-CALNAME:Escoteiros SP
X-ORIGINAL-URL:https://www.escoteirossp.org.br
X-WR-CALDESC:Eventos para Escoteiros SP
REFRESH-INTERVAL;VALUE=DURATION:PT1H
X-Robots-Tag:noindex
X-PUBLISHED-TTL:PT1H
BEGIN:VTIMEZONE
TZID:America/Sao_Paulo
BEGIN:STANDARD
TZOFFSETFROM:-0300
TZOFFSETTO:-0300
TZNAME:-03
DTSTART:20200101T000000
END:STANDARD
END:VTIMEZONE
BEGIN:VEVENT
DTSTART;TZID=America/Sao_Paulo:20210307T140000
DTEND;TZID=America/Sao_Paulo:20210307T180000
DTSTAMP:20260423T162250
CREATED:20201217T181529Z
LAST-MODIFIED:20201218T192647Z
UID:32826-1615125600-1615140000@www.escoteirossp.org.br
SUMMARY:Oficina Escoteiros do Mundo
DESCRIPTION:O que é o evento?\nO evento surge como um momento de aprendizado sobre o reconhecimento Escoteiros do Mundo e\nsobre a realização de projetos no Movimento Escoteiro com a intenção de capacitar jovens sobre este\nreconhecimento para que sejam multiplicadores do projeto. \nO porquê do evento?\nAtende ao previsto no objetivo 1.2.4 do Plano Estratégico Regional 2019-2021 da Região Escoteira de São Paulo e Todos os Objetivos de Desenvolvimento Sustentável da Agenda 2030 da Organização das Nações Unidas (ONU)\, principalmente o 17. \nQuando?\n07 de março de 2021 (domingo)\nAbertura prevista às 14h e encerramento previsto às 18h\nCheck-in das 13h às 14h de 07 de março de 2021 (domingo) \nOnde?\nVirtualmente\, através do aplicativo DISCORD \nQuem pode participar?\nSeniores/guias desde acompanhados por um Escotista responsável\, Pioneiros/as e Escotistas\nacompanhantes\, com registro escoteiro válido. \nQuanto?\nEvento Gratuito. \nComo se inscrever?\nExclusivamente via Meu PAXTU\, na área de Eventos\, das 0h do dia 18 de dezembro de 2020 até às 23h59min do dia 04 de fevereiro de 2021\, ou até serem contempladas todas as vagas. \nLimite de vagas\n50 (cinquenta) para Seniores e Guias\, Pioneiros/as\, Escotistas acompanhantes. \n  \nBoletim \n  \nOficina Escoteiros do Mundo
URL:https://www.escoteirossp.org.br/evento/oficina-escoteiros-do-mundo/
LOCATION:Online
CATEGORIES:Oficina
ATTACH;FMTTYPE=image/png:https://www.escoteirossp.org.br/wp/wp-content/uploads/2020/12/Post-boletim_disponivel-e1608228369341.png
ORGANIZER;CN="Coordena%C3%A7%C3%A3o Escoteiros do Mundo":MAILTO:escoteirosdomundo@escoteirossp.org.br
END:VEVENT
END:VCALENDAR