BEGIN:VCALENDAR
VERSION:2.0
PRODID:-//Escoteiros SP - ECPv6.15.20//NONSGML v1.0//EN
CALSCALE:GREGORIAN
METHOD:PUBLISH
X-WR-CALNAME:Escoteiros SP
X-ORIGINAL-URL:https://www.escoteirossp.org.br
X-WR-CALDESC:Eventos para Escoteiros SP
REFRESH-INTERVAL;VALUE=DURATION:PT1H
X-Robots-Tag:noindex
X-PUBLISHED-TTL:PT1H
BEGIN:VTIMEZONE
TZID:America/Sao_Paulo
BEGIN:STANDARD
TZOFFSETFROM:-0200
TZOFFSETTO:-0300
TZNAME:-03
DTSTART:20190217T020000
END:STANDARD
END:VTIMEZONE
BEGIN:VEVENT
DTSTART;TZID=America/Sao_Paulo:20200307T090000
DTEND;TZID=America/Sao_Paulo:20200307T123000
DTSTAMP:20260424T033641
CREATED:20200511T184852Z
LAST-MODIFIED:20200511T184852Z
UID:26750-1583571600-1583584200@www.escoteirossp.org.br
SUMMARY:Oficina: Projeto 1000 Hortas
DESCRIPTION:Você sabia que a Região Escoteira de São Paulo tem um projeto para trabalhar os conceitos de produção correta dos alimentos\, preparo sem desperdícios e a alimentação balanceada e nutritiva? O projeto 1000 Hortas – Educação Ambiental e Alimentação Saudável é apoiado pela Fundação Cargill com a comunidade escoteira e não-escoteira. \nA oficina do #1000Hortas na Casa do Escoteiro visa apresentar o projeto aos presentes e proporcionar uma vivência prática de como começar uma horta. O objetivo é que os participantes conheçam o projeto\, levem uma muda para casa e possam acompanhar o desenvolvimento de uma hortaliça que\, no futuro\, seja utilizada em receitas saudáveis. Dessa forma\, crianças\, jovens e adultos poderão estabelecer uma nova relação com os alimentos\, mais sustentável\, nutritiva e consciente. \nSaiba mais sobre o projeto em: \nhttps://www.escoteirossp.org.br/ja-conhece-o-projeto-1000-hortas-venha-fazer-parte-dessa-aventura-saudavel  \n  \nData: 07/03/2020 (sábado) \nHorário: das 9h30 às 12h30 \nLocal: Casa do Escoteiro de São Paulo “Carlos Battisti” \nRua Coronel Xavier de Toledo\, 316\, 3º andar\, República\, São Paulo/SP\, próximo ao Metrô Anhangabaú. \nEstacionamento conveniado com desconto – Próx. LOJA MOVIDA – Rua da Consolação\, 293\, Consolação\, São Paulo/SP.  Carimbe seu ticket na recepção do Escritório Regional. \nInscrições via Meu Paxtu de 14/02 a 03/03/2020\, ou até serem completadas todas as vagas. \nQuem pode participar: Lobinhos (as)\, Escoteiros (as)\, Seniores/Guias e Pioneiros (as)\, com registro escoteiro válido. \n* Os Escotistas e Dirigentes que se inscreverem ficarão retidos na triagem do PAXTU e só serão liberados para inscrição\, caso haja sobra de vagas dos membros juvenis. Fiquem atentos ao recebimento de e-mail com a confirmação da efetivação da inscrição. \nLimite de vagas: 32 \nTodos os participantes devem levar\, obrigatoriamente\, no dia da atividade autorização assinada pelo responsável legal (no caso de menores de idade) e pela Diretoria da Unidade Escoteira Local (todos\, menores ou maiores de idade). \nFacilitador:  \nArtur Almeida Malheiros – Coordenador Regional do Projeto 1000 Hortas \nEstudante de Engenharia Ambiental pela USP São Carlos desde 2016. Ingressou no Escotismo como membro juvenil do Ramo Escoteiro\, em 2011. Auxiliou na coordenação de acampamentos pioneiros regionais em 2017 e 2019\, realizados no 26º Distrito Escoteiro. Atualmente está como Assistente de Seção no Ramo Escoteiro no Grupo Escoteiro São Carlos 251/SP e Coordenador do Projeto 1000 Hortas dos Escoteiros do Brasil – Região de São Paulo. \nOficina: Projeto 1000 Hortas
URL:https://www.escoteirossp.org.br/evento/oficina-projeto-1000-hortas/
LOCATION:Casa do Escoteiro de São Paulo “Carlos Battisti”\, Rua Coronel Xavier de Toledo\, 316\, 3º andar\, República\, São Paulo\, SP\, 01048-000\, Brasil
CATEGORIES:Oficina
ATTACH;FMTTYPE=image/jpeg:https://www.escoteirossp.org.br/wp/wp-content/uploads/2020/05/pauli?nia-_1000_hortas-58-730x487-1.jpg
ORGANIZER;CN="Coordena%C3%A7%C3%A3o Regional do Projeto 1000 Hortas":MAILTO:1000hortas@escoteirossp.org.br
END:VEVENT
END:VCALENDAR