BEGIN:VCALENDAR
VERSION:2.0
PRODID:-//Escoteiros SP - ECPv6.15.20//NONSGML v1.0//EN
CALSCALE:GREGORIAN
METHOD:PUBLISH
X-WR-CALNAME:Escoteiros SP
X-ORIGINAL-URL:https://www.escoteirossp.org.br
X-WR-CALDESC:Eventos para Escoteiros SP
REFRESH-INTERVAL;VALUE=DURATION:PT1H
X-Robots-Tag:noindex
X-PUBLISHED-TTL:PT1H
BEGIN:VTIMEZONE
TZID:America/Sao_Paulo
BEGIN:STANDARD
TZOFFSETFROM:-0300
TZOFFSETTO:-0300
TZNAME:-03
DTSTART:20230101T000000
END:STANDARD
END:VTIMEZONE
BEGIN:VEVENT
DTSTART;TZID=America/Sao_Paulo:20241123T140000
DTEND;TZID=America/Sao_Paulo:20241124T183000
DTSTAMP:20260424T091024
CREATED:20241026T140248Z
LAST-MODIFIED:20241026T141827Z
UID:45755-1732370400-1732473000@www.escoteirossp.org.br
SUMMARY:Ponta de Flecha 2024
DESCRIPTION:Apresentação\nO Ponta de Flecha é um acampamento exclusivo para Monitores e Sub-monitores do Ramo Escoteiro\, repleto de atividades que promovem liderança\, trabalho em equipe e fortalecimento das habilidades escoteiras. É uma oportunidade única para cada jovem mergulhar em uma experiência de desenvolvimento e aprendizado. \nData\nO evento ocorrerá nos dias 23 e 24 de novembro de 2024. \nParticipação\nAberto para membros da Tropa Escoteira\, organizados por grupo ou distrito e acompanhados por um Escotista responsável. \nDesenvolvimento da atividade\nA programação será realizada de forma descentralizada\, adaptada para atender às necessidades dos jovens. \nBoletim  \nCaderno de Atividades \nModelo de Certificado  \n  \nA Equipe Regional de Programa Educativo do Ramo Escoteiro sugere que postem fotos da atividade em suas redes sociais\, utilizando a hashtag #ramoescoteiroSP e marcando o Instagram @ramoescoteirosp e @escoteirossp. \nPonta de Flecha 2024
URL:https://www.escoteirossp.org.br/evento/ponta-de-flecha-2024/
LOCATION:Descentralizado
CATEGORIES:Acampamento,Descentralizado
ATTACH;FMTTYPE=image/png:https://www.escoteirossp.org.br/wp/wp-content/uploads/2024/10/Logotipo-Ponta-de-Flecha-1.png
ORGANIZER;CN="Diretoria Regional de M%C3%A9todos Educativos - Programa Educativo":MAILTO:programa.sp@escoteiros.org.br
END:VEVENT
END:VCALENDAR