BEGIN:VCALENDAR
VERSION:2.0
PRODID:-//Escoteiros SP - ECPv6.15.20//NONSGML v1.0//EN
CALSCALE:GREGORIAN
METHOD:PUBLISH
X-WR-CALNAME:Escoteiros SP
X-ORIGINAL-URL:https://www.escoteirossp.org.br
X-WR-CALDESC:Eventos para Escoteiros SP
REFRESH-INTERVAL;VALUE=DURATION:PT1H
X-Robots-Tag:noindex
X-PUBLISHED-TTL:PT1H
BEGIN:VTIMEZONE
TZID:America/Sao_Paulo
BEGIN:STANDARD
TZOFFSETFROM:-0300
TZOFFSETTO:-0300
TZNAME:-03
DTSTART:20240101T000000
END:STANDARD
END:VTIMEZONE
BEGIN:VEVENT
DTSTART;VALUE=DATE:20250401
DTEND;VALUE=DATE:20250701
DTSTAMP:20260424T043247
CREATED:20250313T161942Z
LAST-MODIFIED:20250313T161942Z
UID:46906-1743465600-1751327999@www.escoteirossp.org.br
SUMMARY:Ponta de Flecha 2025
DESCRIPTION:O Ponta de Flecha 2025 é uma experiência essencial para Monitores e Submonitores do Ramo Escoteiro que desejam aprimorar suas habilidades de liderança e organização dentro de suas patrulhas. A atividade\, que acontece ao ar livre\, oferece uma programação dinâmica e desafiadora\, incentivando o protagonismo juvenil por meio de práticas fundamentais como orientação\, segurança\, alimentação mateira e pioneiria. \nAo participar\, os jovens terão a oportunidade de fortalecer a capacidade de delegar funções\, aprender a cuidar do grupo e desenvolver um senso de responsabilidade coletiva. Além disso\, a experiência contribuirá diretamente para a progressão no Movimento Escoteiro\, incentivando a conquista das Especialidades de Acampamento e Pioneiria. \nQuando \nO evento acontecerá entre 1º de abril e 30 de junho de 2025\, e cada Distrito Escoteiro ou Unidade Escoteira Local (UEL) poderá adaptá-lo conforme suas possibilidades. \nOnde será o Ponta de Flecha 2025\nPor ser uma atividade descentralizada\, os Distritos Escoteiros e UELs serão responsáveis pela realização do Ponta de Flecha 2025\, escolhendo locais apropriados para garantir uma experiência segura e enriquecedora.. \nQuem pode participar do Ponta de Flecha 2025\n\nMonitores e Submonitores do Ramo Escoteiro\, com idade entre 11 e 14 anos\, registrados na União dos Escoteiros do Brasil.\nOs participantes deverão estar acompanhados por um Escotista responsável durante toda a atividade.\nÉ obrigatória a autorização assinada pelos responsáveis legais e pela Diretoria da UEL.\n\nComo será realizada a atividade\nOs organizadores do Ponta de Flecha 2025 adaptarão o evento de acordo com as diretrizes do boletim oficial. A programação terá módulos técnicos para desenvolver competências como montagem de acampamento\, técnicas de segurança\, cozinha mateira\, primeiros socorros e liderança. Dessa forma\, os jovens aprimorarão seus conhecimentos de maneira prática e envolvente. \nPor que participar?\n\nDesenvolvimento de habilidades de liderança e fortalecimento do espírito de equipe.\nAprimoramento em técnicas escoteiras essenciais\, como pioneiria e orientação.\nConstrução de um ambiente colaborativo\, incentivando o protagonismo juvenil.\nPreparação para desafios dentro da patrulha e na jornada escoteira.\n\n  \nConfira todas as informações: \nBoletim e Caderno de Atividades \nModelo de Certificado \n  \nPonta de Flecha 2025
URL:https://www.escoteirossp.org.br/evento/ponta-de-flecha-2025-lideranca-monitores-escoteiros/
CATEGORIES:Acampamento,Ramo Escoteiro
ATTACH;FMTTYPE=image/png:https://www.escoteirossp.org.br/wp/wp-content/uploads/2025/03/Logotipo-Ponta-de-Flecha-01.png
ORGANIZER;CN="Diretoria Regional de M%C3%A9todos Educativos - Programa Educativo":MAILTO:programa.sp@escoteiros.org.br
END:VEVENT
END:VCALENDAR