BEGIN:VCALENDAR
VERSION:2.0
PRODID:-//Escoteiros SP - ECPv6.15.20//NONSGML v1.0//EN
CALSCALE:GREGORIAN
METHOD:PUBLISH
X-WR-CALNAME:Escoteiros SP
X-ORIGINAL-URL:https://www.escoteirossp.org.br
X-WR-CALDESC:Eventos para Escoteiros SP
REFRESH-INTERVAL;VALUE=DURATION:PT1H
X-Robots-Tag:noindex
X-PUBLISHED-TTL:PT1H
BEGIN:VTIMEZONE
TZID:America/Sao_Paulo
BEGIN:STANDARD
TZOFFSETFROM:-0300
TZOFFSETTO:-0300
TZNAME:-03
DTSTART:20200101T000000
END:STANDARD
END:VTIMEZONE
BEGIN:VEVENT
DTSTART;TZID=America/Sao_Paulo:20210911T090000
DTEND;TZID=America/Sao_Paulo:20210911T170000
DTSTAMP:20260423T162247
CREATED:20210722T183836Z
LAST-MODIFIED:20210722T183836Z
UID:36165-1631350800-1631379600@www.escoteirossp.org.br
SUMMARY:Por Dentro de Mundo Melhor
DESCRIPTION:O que é o evento?\n“Por Dentro de Mundo Melhor” será um Seminário que trará aos associados da Região Escoteira de São Paulo uma imersão sobre as temáticas trabalhadas pelas Equipes Regionais de Mundo Melhor\, aliando teoria com dicas práticas. \nNosso evento tem como objetivo levar aos Dirigentes regionais e distritais\, para que possam replicar a todos os associados\, exemplos de como fazer um Escotismo e uma UEL sustentável\, inclusiva\, diversa\, envolvida com a comunidade e com vida saudável; através de vivências práticas e dinâmicas. \nSerão abordadas as temáticas de: Diversidades\, Inclusão\, Envolvimento Comunitário\, Meio Ambiente e Vida Saudável. Também serão abordados programas que englobam a ferramenta “Better World”. \nA Coordenação Regional de Mundo Melhor traz para este evento uma nova perspectiva sobre as iniciativas realizadas pelas equipes que compõem a pasta. \nO porquê do evento\nEstamos contribuindo para a Região de São Paulo atingir ao previsto no objetivo do Plano Estratégico Regional itens 1.3.2.\, 1.3.4\, 1.3.5.\, 1.8.1.\, 1.8.2\, e para o mundo atingir os Objetivos do Desenvolvimento Sustentável números 3\, 5\, 10\, 13 e 17. \nQuando?\n11 de setembro de 2021 (sábado). \nOnde?\nVirtualmente\, através dos aplicativos YouTube e Google MEET. \nQuem pode participar?\nEquipe Regional de mundo Melhor\, Diretores Eleitos e Nomeados\, Coordenadores e Assessores Regionais\, Comissários Distritais e Coordenadores Distritais com registro escoteiro válido. \nComo se inscrever?\nExclusivamente via Meu PAXTU\, na área de Eventos\, das 00h do 26 de julho de 2021 até às 23h59min do 27 de agosto de 2021\, ou até serem preenchidas todas as vagas. \nLembramos aos participantes que preencham corretamente a Ficha Médica\, para que a equipe\norganizadora tenha ciência e verifique se há necessidade de ajustar a acessibilidade do evento. \nLimite de vagas\n40 (cinquenta) para Equipe Regional – Diretores\, Coordenadores e Assessores;\n30 (trinta) para Comissários Distritais; e\n50 (quarenta) Coordenadores Distritais. \nQuanto?\nEvento Gratuito com possibilidade de compra de distintivos via Meu Kit Escoteiro. \n  \nConfira o boletim completo: \nBoletim  \n  \nPor Dentro de Mundo Melhor
URL:https://www.escoteirossp.org.br/evento/por-dentro-de-mundo-melhor/
LOCATION:Online
CATEGORIES:Seminário
ATTACH;FMTTYPE=image/png:https://www.escoteirossp.org.br/wp/wp-content/uploads/2021/07/mundo-melhor.png
END:VEVENT
END:VCALENDAR