BEGIN:VCALENDAR
VERSION:2.0
PRODID:-//Escoteiros SP - ECPv6.15.20//NONSGML v1.0//EN
CALSCALE:GREGORIAN
METHOD:PUBLISH
X-WR-CALNAME:Escoteiros SP
X-ORIGINAL-URL:https://www.escoteirossp.org.br
X-WR-CALDESC:Eventos para Escoteiros SP
REFRESH-INTERVAL;VALUE=DURATION:PT1H
X-Robots-Tag:noindex
X-PUBLISHED-TTL:PT1H
BEGIN:VTIMEZONE
TZID:America/Sao_Paulo
BEGIN:STANDARD
TZOFFSETFROM:-0300
TZOFFSETTO:-0300
TZNAME:-03
DTSTART:20200101T000000
END:STANDARD
END:VTIMEZONE
BEGIN:VEVENT
DTSTART;VALUE=DATE:20210703
DTEND;VALUE=DATE:20210801
DTSTAMP:20260423T145412
CREATED:20210513T184144Z
LAST-MODIFIED:20210623T153258Z
UID:35321-1625270400-1627775999@www.escoteirossp.org.br
SUMMARY:Pré-Vigília 2021
DESCRIPTION:O que é o evento?\nA Pré-Vigília Regional Pioneira é uma atividade tradicional na Região Escoteira de São Paulo que propicia um ambiente ideal para que os pioneiros possam\, em grupo ou individualmente\, refletir sobre sua vida\, tendo como foco principal os três pilares fundamentais do Movimento Escoteiro: a relação com Deus\, a relação com o próximo e a relação consigo mesmo.\nO pioneiro compromete-se voluntariamente a cumprir seus deveres frente a esses pilares e\, durante a Pré-Vigília\, tem mais uma oportunidade de refletir sobre seus pensamentos e ações focando nesses pontos.\nTradicionalmente\, realiza-se a atividade no sábado mais próximo ao Dia do Pioneiro: 29 de junho\, dia de Paulo de Tarso\, patrono deste Ramo\, justamente por ser um exemplo de decisão na escolha do bom caminho diante das encruzilhadas da vida e por ser capaz de assumir projetos para crescer como pessoa e mudar o mundo em que vivia.\nJuntamente com Simão\, Pedro e Tiago\, ele foi um dos mais proeminentes líderes do nascente Cristianismo.\nAtende ao previsto nos objetivos 1.4.3 e 1.5.2 do Plano Estratégico Regional 2019-2021 da Região Escoteira de São Paulo e os Objetivos de Desenvolvimento Sustentável 4\, 6\, 7\, 12 e 13 da Agenda 2030 da Organização das Nações Unidas (ONU). \nTema\nO tema da Pré-Vigília Regional Pioneira deste ano foi escolhido na Assembleia Regional Pioneira (ARPi)\, realizada em fevereiro de 2021. O tema traz a importância de se reconectar com as coisas que ficaram paradas durante a pandemia. Trabalharemos a conexão familiar\, espiritual\, afetiva\, mental\, as conexões com os amigos e com o escotismo. \nO porquê do evento?\nA atividade é uma oportunidade ideal para estreitar os laços que unem os Clãs Pioneiros. Neste ano não poderia ser diferente\, mesmo com a situação atual que estamos vivendo de distanciamento social\, por conta da pandemia de COVID-19. Desse modo\, a Pré-Vigília Regional Pioneira de 2021 será realizada de forma online ou presencial por clã\, respeitando o plano de retomada e a fase instituída em cada cidade.\nA atividade atende ao previsto nos objetivos do Plano Estratégico Regional Escoteiro\, itens 1.1.4 e 1.5.2 e os Indicadores Brasileiros para os Objetivos de Desenvolvimento Sustentável\, itens 4\, 5\, 10 e 16. \n  \nOnde?\nOn-line\, descentralizado\, através das seguintes plataformas:\n– Abertura ao vivo: https://youtu.be/O_LQgRj1MZw\n– Atividades: https://linktr.ee/RamoPioneiroSP\n– Canal de dúvidas: https://discord.gg/QmfWUNQkw8\n– Interação: Padlet https://padlet.com/ramopioneiroSP/tqixa9rutalov6cp\n– Encerramento: https://youtu.be/sP_vzI8_4WM \n  \nQuando?\n03 de julho de 2021- Para a participação simultânea ao envio das atividades.\n04 de junho a 31 de julho – Período para participação posterior. \n  \nQuem pode participar?\nSeniores/Guias em transição para o Ramo Pioneiro\, a partir de 17 anos de idade\, com registro escoteiro válido.\nPioneiros (as)\, com registro escoteiro válido.\nEscotistas do Ramo Pioneiro\, a partir de 21 anos de idade\, com registro escoteiro válido. \n  \nComo se inscrever?\nO evento não conta com inscrições prévias. \n  \nComo cadastrar sua participação?\nO evento não contará com inscrições pelos participantes na seção de eventos do “Meu Paxtu”\, de maneira que\, para constar a participação na ficha do jovem\, a atividade deve ser incluída nas “Atividades Fora de Sede” pelo escotista ou responsável pelo “Paxtu” da seção\, seguindo os passos abaixo:\n> Agenda\n> Atividades Fora da Sede\n> Nova Atividade\n> Tipo: Vigília\nMas\, lembre-se\, #fiqueemcasa. \n  \nLimite de vagas\nNão há limite de vagas \n  \nQuanto?\nNão há taxa de inscrição para participação. \n  \nConfira o Boletim completo \n  \nPré-Vigília 2021
URL:https://www.escoteirossp.org.br/evento/pre-vigilia-2021/
LOCATION:Descentralizado
CATEGORIES:Pré-Vigí­lia,Ramo Pioneiro
ATTACH;FMTTYPE=image/png:https://www.escoteirossp.org.br/wp/wp-content/uploads/2021/05/1-Boletim_disponivel-e1620931173659.png
ORGANIZER;CN="Coordena%C3%A7%C3%A3o Regional do Ramo Pioneiro":MAILTO:ramopioneiro.sp@escoteiros.org.br
END:VEVENT
END:VCALENDAR