BEGIN:VCALENDAR
VERSION:2.0
PRODID:-//Escoteiros SP - ECPv6.15.20//NONSGML v1.0//EN
CALSCALE:GREGORIAN
METHOD:PUBLISH
X-WR-CALNAME:Escoteiros SP
X-ORIGINAL-URL:https://www.escoteirossp.org.br
X-WR-CALDESC:Eventos para Escoteiros SP
REFRESH-INTERVAL;VALUE=DURATION:PT1H
X-Robots-Tag:noindex
X-PUBLISHED-TTL:PT1H
BEGIN:VTIMEZONE
TZID:America/Sao_Paulo
BEGIN:STANDARD
TZOFFSETFROM:-0300
TZOFFSETTO:-0300
TZNAME:-03
DTSTART:20240101T000000
END:STANDARD
END:VTIMEZONE
BEGIN:VEVENT
DTSTART;VALUE=DATE:20250628
DTEND;VALUE=DATE:20250630
DTSTAMP:20260423T161100
CREATED:20250609T195726Z
LAST-MODIFIED:20250609T195726Z
UID:47646-1751068800-1751241599@www.escoteirossp.org.br
SUMMARY:Pré-Vigília Regional Pioneira 2025
DESCRIPTION:A Pré-Vigília Regional Pioneira é um evento que busca situar os Pioneiros em um ambiente ideal para\, em grupo ou individualmente\, refletir sobre sua vida\, sobre suas relações com o próximo e sobre assuntos pertinentes ao movimento escoteiro e ao mundo. Essa atividade dá uma oportunidade para que os Pioneiros reflitam sobre sua Promessa Escoteira\, sua vida e os seus desafios. Visa estimular a sua inserção na Sociedade de hoje com todas as dificuldades atuais e ajudá-lo a projetar-se em um futuro com planejamento. É uma atividade de reflexão que se desenvolve em qualquer período\, dia ou noite\, com duração aproximada de 12 horas. \nPara que serve\nEssa atividade é uma preparação para o jovem na sua progressão pioneira\, para que futuramente ele possa realizar a sua Vigília Pessoal\, o qual resultará na sua investidura. Para os pioneiros já investidos\, participar da Pré-Vigília é uma oportunidade de rever e atualizar suas metas definidas anteriormente. \nTema – Desenvolvendo nosso próprio futuro \nApoiamos os jovens para que sejam protagonistas de seu processo educativo.\nPara tal\, recorremos à aprendizagem por meio da ação\, valorizando a curiosidade\, os questionamentos\, a experiência e a autonomia como fontes de conhecimento da sua realidade local\, nacional e internacional.” (Projeto Educativo dos Escoteiros do Brasil – Educação para a Vida\, p.7\, 2021) \n“O autoconhecimento proporciona uma imagem verdadeira das coisas\, mas precisamos aprender a nos tratar com gentileza e carinho. Não temos que viver de desculpas ou fingir ser o que não somos\, mas é necessário aceitar quem somos\, com nossas qualidades e defeitos\, capacidades e limitações\, e admitir que é exatamente tudo isso que nos faz ser quem somos – com toda a singularidade de um ser único!” (Guia do Projeto Pioneiro\, p. 73\, 2014) \nÉ preciso se autoconhecer para entender suas capacidades e competências para ter coragem de nos expor a situações que nos façam evoluir. Ter medo de errar é natural\, mas é preciso superar esses medos e nos permitir errar e recomeçar. \nComo desenvolver minha autoconfiança e ter um olhar crítico de mim para alcançar minhas metas e objetivos? \nConfira o boletim \nPré-Vigília Regional Pioneira 2025
URL:https://www.escoteirossp.org.br/evento/pre-vigilia-regional-pioneira-2025/
CATEGORIES:Pré-Vigí­lia,Ramo Pioneiro
ATTACH;FMTTYPE=image/png:https://www.escoteirossp.org.br/wp/wp-content/uploads/2025/06/capasite_previgilia.png
END:VEVENT
END:VCALENDAR