BEGIN:VCALENDAR
VERSION:2.0
PRODID:-//Escoteiros SP - ECPv6.15.20//NONSGML v1.0//EN
CALSCALE:GREGORIAN
METHOD:PUBLISH
X-WR-CALNAME:Escoteiros SP
X-ORIGINAL-URL:https://www.escoteirossp.org.br
X-WR-CALDESC:Eventos para Escoteiros SP
REFRESH-INTERVAL;VALUE=DURATION:PT1H
X-Robots-Tag:noindex
X-PUBLISHED-TTL:PT1H
BEGIN:VTIMEZONE
TZID:America/Sao_Paulo
BEGIN:STANDARD
TZOFFSETFROM:-0300
TZOFFSETTO:-0300
TZNAME:-03
DTSTART:20200101T000000
END:STANDARD
END:VTIMEZONE
BEGIN:VEVENT
DTSTART;TZID=America/Sao_Paulo:20210814T210000
DTEND;TZID=America/Sao_Paulo:20210814T220000
DTSTAMP:20260423T162020
CREATED:20210623T211812Z
LAST-MODIFIED:20210810T160511Z
UID:35804-1628974800-1628978400@www.escoteirossp.org.br
SUMMARY:Cerimônia do Prêmio Walter Dohme - 2021
DESCRIPTION:1. NATUREZA DO PRÊMIO\nO prêmio “Walter Dohme”\, em sua sexta edição no ano de 2021\, visa reconhecer os adultos voluntários (escotistas\, dirigentes\, contribuintes\, membros do Clube da Flor de Lis) atuantes em Unidades Escoteiras Locais – UELs (Grupos Escoteiros/Seções Autônomas) da Região Escoteira de São Paulo que contribuem de forma exemplar e efetiva para a correta aplicação do Programa Educativo e do Método Escoteiro\, bem como para uma melhor Gestão Institucional\, no cumprimento da missão do Movimento Escoteiro de educar crianças\, adolescentes e jovens para a vida e na construção de um Mundo Melhor. \n2. QUEM FOI WALTER DOHME?\nWalter Dohme ingressou no Movimento Escoteiro em 1951\, onde foi membro juvenil\, escotista\, dirigente e formador\, com atuação nos diversos níveis da organização escoteira. Foi um exemplo de adulto para seus jovens\, não só pela sua prática\, mas também por suas ideias inovadoras. Além de escoteiro\, era escritor\, ilustrador\, ludo-educador e ecologista\, e sempre será lembrado pela criação do personagem “Alertino\, o escoteiro”\, símbolo deste prêmio. Partiu para o Grande Acampamento em 2015\, deixando um grande legado\, dentro e fora do Escotismo. \n3. PERFIL DOS PARTICIPANTES\nAdultos voluntários (escotistas\, dirigentes\, contribuintes\, membros do Clube da Flor de Lis) da Região Escoteira de São Paulo\, com registro escoteiro válido no período de aplicação do projeto em sua Seção/ Diretoria\, e que desenvolveram projetos inovadores em suas UELs e/ou comunidades em qualquer uma das áreas/categorias definidas no item 4 deste regulamento. \n  \nCRONOGRAMA \n22 de junho – Divulgação do regulamento desta edição do prêmio\n22 de junho a 24 de julho – Período de inscrições do prêmio\n08 de julho – Live de divulgação desta edição do prêmio\n07 de agosto – Divulgação dos finalistas de cada categoria do prêmio\n15 de agosto – Cerimônia de premiação e divulgação oficial dos\nvencedores de cada categoria do prêmio \nConfira o regulamento completo no botão abaixo: \nREGULAMENTO \nModelo de Projeto \nModelo Carta de Recomendação para UELs \nCerimônia do Prêmio Walter Dohme – 2021
URL:https://www.escoteirossp.org.br/evento/premio-walter-dohme-2021/
LOCATION:Online
CATEGORIES:Dirigente,Escotista
ATTACH;FMTTYPE=image/png:https://www.escoteirossp.org.br/wp/wp-content/uploads/2021/06/thumb_noti?cia.png
END:VEVENT
END:VCALENDAR