BEGIN:VCALENDAR
VERSION:2.0
PRODID:-//Escoteiros SP - ECPv6.15.20//NONSGML v1.0//EN
CALSCALE:GREGORIAN
METHOD:PUBLISH
X-WR-CALNAME:Escoteiros SP
X-ORIGINAL-URL:https://www.escoteirossp.org.br
X-WR-CALDESC:Eventos para Escoteiros SP
REFRESH-INTERVAL;VALUE=DURATION:PT1H
X-Robots-Tag:noindex
X-PUBLISHED-TTL:PT1H
BEGIN:VTIMEZONE
TZID:America/Sao_Paulo
BEGIN:STANDARD
TZOFFSETFROM:-0200
TZOFFSETTO:-0300
TZNAME:-03
DTSTART:20190217T020000
END:STANDARD
END:VTIMEZONE
BEGIN:VEVENT
DTSTART;VALUE=DATE:20200324
DTEND;VALUE=DATE:20200325
DTSTAMP:20260423T224626
CREATED:20200513T200545Z
LAST-MODIFIED:20200513T200545Z
UID:26785-1585008000-1585094399@www.escoteirossp.org.br
SUMMARY:#QuarentenaEscoteira: #Clãrentena
DESCRIPTION:Pensando nesse período difícil que estamos vivendo\, nós estamos disponibilizando fichas de atividades para serem aplicadas por reunião via videoconferência. Gostaríamos de ressaltar a importância de continuamos com a nossa rotina e vivência escoteira mesmo em tempos difíceis e sem sair de casa. \n\nLembrem-se: O escoteiro é alegre e sorri nas dificuldades. \nPensando nisso\, com vocês a #Clãrentena \n\nConfira as Fichas de Atividade \n#QuarentenaEscoteira: #Clãrentena
URL:https://www.escoteirossp.org.br/evento/quarentenaescoteira-clarentena/
CATEGORIES:Online
ATTACH;FMTTYPE=image/jpeg:https://www.escoteirossp.org.br/wp/wp-content/uploads/2020/05/90446399_2801775276566461_6035790323584598016_o-1-209x300-1.jpg
END:VEVENT
END:VCALENDAR