BEGIN:VCALENDAR
VERSION:2.0
PRODID:-//Escoteiros SP - ECPv6.15.20//NONSGML v1.0//EN
CALSCALE:GREGORIAN
METHOD:PUBLISH
X-WR-CALNAME:Escoteiros SP
X-ORIGINAL-URL:https://www.escoteirossp.org.br
X-WR-CALDESC:Eventos para Escoteiros SP
REFRESH-INTERVAL;VALUE=DURATION:PT1H
X-Robots-Tag:noindex
X-PUBLISHED-TTL:PT1H
BEGIN:VTIMEZONE
TZID:America/Sao_Paulo
BEGIN:STANDARD
TZOFFSETFROM:-0300
TZOFFSETTO:-0300
TZNAME:-03
DTSTART:20210101T000000
END:STANDARD
END:VTIMEZONE
BEGIN:VEVENT
DTSTART;VALUE=DATE:20221001
DTEND;VALUE=DATE:20221101
DTSTAMP:20260423T175533
CREATED:20220909T203816Z
LAST-MODIFIED:20220930T131115Z
UID:39593-1664582400-1667260799@www.escoteirossp.org.br
SUMMARY:Rally de Lobinhos - 2022
DESCRIPTION:O que é o evento?\nO Rally de Lobinhos é um evento regional tradicional do Ramo\, realizado sempre próximo ao dia 4 de outubro\, data comemorativa do Dia Mundial do Lobinho.\nTem por objetivo reunir as Alcateias para compartilharem amizade\, alegria e fraternidade através de um tema empolgante. \nLocal\nDescentralizado\, por Distrito\, Interdistritais ou Unidade Escoteira Local \nTema\nLobinhos e lobinhas estão em seu “habitat natural” quando vivem o ambiente de fantasia proporcionado pelas aventuras no Jângal.\nAinda que tenhamos em mente conscientizar as crianças para o necessário caráter de sustentabilidade ao desenvolvimento social e ajudá-las a enxergar\no seu papel nesses processos do mundo real\, o fundo de cena do Ramo Lobinho é fundamental para lhes inspirar e mostrar qualidades e defeitos\, causas e\nconsequências de ações.  Assim\, procuramos conectar os ODS (Objetivos do Desenvolvimento Sustentável – ONU) escolhidos para serem trabalhados nesse evento as\ncom personagens cujas características se alinham com as propostas de conscientização\, de adoção de postura positiva ou de ação efetiva. \nTeremos 4 trilhas a serem percorridas\, cada qual inspirada em uma personagem: BAGHEERA – BALOO – KAA – KOTICK.\nO nome  INSPIRAÇÃO vem\, portanto\,  da inspiração no exemplo de vida dessas personagens e a consequente motivação para uma ação efetiva como conscientização\,\nmudança de comportamento e de atitudes face o conhecimento e compreensão das diferentes problemáticas. \nData\nO período sugerido para a realização do Rally de Lobinhos é de 01 de outubro a 31 de outubro de 2022. \nQuem pode participar?\nPoderão participar do Rally de Lobinhos os membros juvenis e escotistas do Ramo Lobinho\, com registro escoteiro válido. \nDistintivo\nO distintivo no Rally de Lobinhos será disponibilizado para compra no site meukit.escoteirossp.org.br \nLinks para jogos do Esquenta Rally \nDiagrama Marcado \nPalavra Ausente \nQuiz \nAnagrama \nJogo da Memória \nBaixe a identidade visual do evento aqui : \nLogo\n \nCertificado \n  \n  \nRally de Lobinhos – 2022
URL:https://www.escoteirossp.org.br/evento/rally-de-lobinhos-2022/
CATEGORIES:Descentralizado
ATTACH;FMTTYPE=image/png:https://www.escoteirossp.org.br/wp/wp-content/uploads/2022/09/Id.Visual-Aprovado.png
END:VEVENT
END:VCALENDAR