BEGIN:VCALENDAR
VERSION:2.0
PRODID:-//Escoteiros SP - ECPv6.15.20//NONSGML v1.0//EN
CALSCALE:GREGORIAN
METHOD:PUBLISH
X-WR-CALNAME:Escoteiros SP
X-ORIGINAL-URL:https://www.escoteirossp.org.br
X-WR-CALDESC:Eventos para Escoteiros SP
REFRESH-INTERVAL;VALUE=DURATION:PT1H
X-Robots-Tag:noindex
X-PUBLISHED-TTL:PT1H
BEGIN:VTIMEZONE
TZID:America/Sao_Paulo
BEGIN:STANDARD
TZOFFSETFROM:-0300
TZOFFSETTO:-0300
TZNAME:-03
DTSTART:20240101T000000
END:STANDARD
END:VTIMEZONE
BEGIN:VEVENT
DTSTART;TZID=America/Sao_Paulo:20250831T080000
DTEND;TZID=America/Sao_Paulo:20250831T160000
DTSTAMP:20260423T194318
CREATED:20250807T142500Z
LAST-MODIFIED:20250807T142500Z
UID:48191-1756627200-1756656000@www.escoteirossp.org.br
SUMMARY:Seminário de Atualização de Formadores de Programa Educativo
DESCRIPTION:Apresentação\nCom a atualização do Programa Educativo\, a Diretoria Regional vai promover um Seminário exclusivo para Formadores para capacitá-los como multiplicadores da informação. \nO Encontro deste ano será um espaço para fortalecer o papel do formador e apresentar a atualização do Programa Educativo dos Escoteiros do Brasil na visão do formador. Será uma oportunidade para alinhar conceitos\, compartilhar experiências e compreender como os formadores podem contribuir de forma ainda mais efetiva no nível regional. \nQuando\nDomingo\, 31 de agosto de 2025.\nDas 9h às 16h (credenciamento a partir das 8h) \nOnde\nCentro Escoteiro Jaraguá\nRua Adriano Reys\, 1 – Vila Jaraguá\nSão Paulo/SP\nhttps://maps.app.goo.gl/5xTeKz4TSJV4aLWU7 \nQuem pode participar\nIM2 com ECF\, IM3 (CNGA1) e IM4 (CNGA2) \nComo se inscrever\nExclusivamente via Meu PAXTU\, na área de Eventos\, de 08 de agosto de 2025 até 24 de agosto de 2025\, ou até serem preenchidas todas as vagas. \nLimite de vagas\n100 participantes \nQuanto\nR$ 70\,00 (setenta reais) no boleto bancário. \nPagamentos\, Lista de Espera e Cancelamento\n1. Após ter concluído o processo de inscrição pelo sistema MEU PAXTU\, o inscrito deve efetuar a impressão do boleto para pagamento até a data de vencimento. É de responsabilidade do próprio associado acompanhar a emissão do boleto. Não será enviado boleto via e-mail. \n2. Será possível imprimir boletos vencidos; porém\, terão multa de 2% por boleto e mais 0\,033% de juros ao dia. \n3. O inscrito que não pagar o boleto até 5 dias após o vencimento terá sua inscrição cancelada automaticamente pelo sistema. \n4. A data-limite para solicitação de cancelamento da inscrição é o dia seguinte à data de término das inscrições e deve ser enviada por e-mail para eventos.sp@escoteiros.org.br. \n5. Na solicitação de cancelamento deve constar: \n\nSolicitação de Cancelamento e o nome do evento – no título do email;\nNome completo e o RE do solicitante.\n\n6. No caso de a inscrição ser cancelada dentro do prazo estabelecido\, o valor pago da taxa de inscrição será devolvido parcialmente – serão retidos R$ 20\,00 do valor pelos custos já comprometidos. Após o prazo estabelecido para cancelamento\, não haverá devolução do valor pago da taxa de inscrição. \nTransporte\nO transporte até o local do evento será por conta de cada participante. \nAdequação às regras e conduta\nO evento seguirá de forma integral as definições dos Princípios\, Organização e Regras (P.O.R.) da União dos Escoteiros do Brasil. Condutas desrespeitosas para com outros jovens\, escotistas\, equipe de serviço ou qualquer outra pessoa presente no evento não serão toleradas. \nProcedimentos não previstos\nSerão analisados pela Diretoria Regional. \nRealização\nDiretoria Regional de Métodos Educativos \nOrganização\nDiretoria Regional de Eventos \nMais informações\nDúvidas sobre inscrições do evento\, boleto e devoluções\nEscritório Regional de São Paulo dos Escoteiros do Brasil – Eventos\nE-mail: eventos.sp@escoteiros.org.br \nDúvidas sobre programa do evento \nEscritório Regional de São Paulo dos Escoteiros do Brasil – Programa Educativo\nE-mail: voluntariado.sp@escoteiros.org.br \nAcompanhe as novidades do evento pelo Site Regional\, pelas páginas no Instagram e Facebook e pelo nosso Canal no WhatsApp. \nSeminário de Atualização de Formadores de Programa Educativo
URL:https://www.escoteirossp.org.br/evento/seminario-de-atualizacao-de-formadores-de-programa-educativo/
LOCATION:Centro Escoteiro Jaraguá (CEJ)\, R. Adriano Reys\, 1\, Vila Jaraguá\, São Paulo\, São Paulo\, Brasil
CATEGORIES:Seminário
ATTACH;FMTTYPE=image/png:https://www.escoteirossp.org.br/wp/wp-content/uploads/2025/08/seminario-atualizacao.png
END:VEVENT
END:VCALENDAR