BEGIN:VCALENDAR
VERSION:2.0
PRODID:-//Escoteiros SP - ECPv6.15.20//NONSGML v1.0//EN
CALSCALE:GREGORIAN
METHOD:PUBLISH
X-WR-CALNAME:Escoteiros SP
X-ORIGINAL-URL:https://www.escoteirossp.org.br
X-WR-CALDESC:Eventos para Escoteiros SP
REFRESH-INTERVAL;VALUE=DURATION:PT1H
X-Robots-Tag:noindex
X-PUBLISHED-TTL:PT1H
BEGIN:VTIMEZONE
TZID:America/Sao_Paulo
BEGIN:STANDARD
TZOFFSETFROM:-0300
TZOFFSETTO:-0300
TZNAME:-03
DTSTART:20200101T000000
END:STANDARD
END:VTIMEZONE
BEGIN:VEVENT
DTSTART;TZID=America/Sao_Paulo:20210515T090000
DTEND;TZID=America/Sao_Paulo:20210515T180000
DTSTAMP:20260423T162346
CREATED:20210208T202313Z
LAST-MODIFIED:20210219T200029Z
UID:33842-1621069200-1621101600@www.escoteirossp.org.br
SUMMARY:Seminário sobre exposição\, montagem de acervo e conservação de objetos 2021
DESCRIPTION:O que é o evento?\nUm evento da pasta de Suporte Educacional destinado à capacitação dos membros interessados a integrar a equipe para a formação e conservação do acervo escoteiro da Região de São Paulo. O evento será composto de explanação de especialista\, apresentação de pretensões da coordenação\, compartilhamento de expectativas e disponibilidade para colaboração e esboço inicial de cronograma de implantação \nO porquê do evento?\nAtende ao previsto no objetivo do Plano Estratégico Regional itens 1.6.5. Aperfeiçoar a estrutura do nível Regional \npara documentação e memória escoteira e os Objetivos do Desenvolvimento Sustentável números 16. Paz\, Justiça e Instituições Eficazes \nQuando?\n15 de maio de 2021 (sábado) \nAbertura prevista às 09h e encerramento previsto às 18h \nCheck-in das 08h às 18h entre os dias 13 de março à 20 de março de 2021 \nOnde?\nVirtualmente\, através do aplicativo Google MEET. \nQuem pode participar?\nEscotistas e Dirigentes\, com registro escoteiro válido que tenham interesse na presenrvação da memória escoteira\, estudantes e profissionais nas áreas de história e museologia. \nComo se inscrever?\nExclusivamente via Meu PAXTU\, na área de Eventos\, das 00h do 8 de fevereiro de 2021 até às 23h59 do 11 de março de 2021\, ou até serem preenchidas todas as vagas. \nObservação: Todos os participantes do evento deverão estar devidamente uniformizados ou utilizando o vestuário escoteiro\, conforme o modelo adotado pela UEL\, e entregar no check-in autorização pela Diretoria da Unidade Escoteira Local e responsável legal (no caso de menores de idade)\, bem como ficha médica atualizada\, sob pena de não participação no evento. \nLimite de vagas\n60 (sessenta) para Escotistas e Dirigentes. \nQuanto?\nEvento Gratuito \nPagamentos\, Lista de Espera e Cancelamentos\n\n Data-limite para solicitação de cancelamento de inscrição até 12/03/2021.\n Transferências de inscrições: O participante poderá transferir sua inscrição a outro associado que esteja com registro válido\, na mesma categoria que se inscreveu\, estando este com registro em dia\, através do MEU PAXTU. Prazo para transferência de inscrição: 12/03/2021. Após essa data não será mais possível realizar transferência\n\nParticipação dos Escotistas\nContamos com a colaboração dos escotistas\, apoiando e orientando os jovens na atividade\, bem como nos aspectos de segurança no ambiente virtual. Sempre que necessário\, de forma adicional aos integrantes da equipe de serviço\, os escotistas podem ser convocados a apoiar na aplicação das atividades do evento. \nSerá criado um canal de texto exclusivo para o contato entre a Equipe de Serviço do evento e os Escotistas para que estes também possam desfrutar do evento\, sem deixar de focar no jovem. \nPrograma Previsto (sujeito a alterações sem aviso prévio)\n08h às 08h20min – Abertura. Razões do evento (Vania) \n08h20min às 08h40min – Planos e expectativas da Região escoteira sobre a preservação da memória escoteira na Região de São Paulo \n08h40min às 09h – Dinâmica interativa (padlet) Qual a ideia que você tem de um museu? (Vania) \n09h – 10h – Trajetória do museu de Policia Militar (Álvaro) \n10h às 10h20min – Divisão em equipe: Cada equipe deverá formular uma pergunta sobre o assunto – (Vania) \n10h20min às 10h40min – Formulação de perguntas e respostas (Álvaro) \n10h40min às 11h10min – Palestra interativa com perguntas: Regimento Interno – Administração (Álvaro) \n11h10min às 11h30min – Debate entre as equipes: sugestão de instalações\, regimento interno e administração (Vania) \n11h30min – 12h – Relato de discussão das equipes (Álvaro) \n12h às 12h40min – Pausa para almoço \n12h40min às 12h55min – Quebra-gelo: jogo (Vania) \n12h55min às 13h25min – Palestra: Aquisição (Álvaro) \n13h25min às 13h35min – Perguntas / respostas \n13h35min às 14h05min – Palestra: Catalogação do acervo (Álvaro) \n14h05min às 14h15min – Exercício de catalogação (vania) \n14h20min às 14h40min – Apresentação do exercício \n14h40min às 15h10min – Palestra: Conservação (Álvaro) \n15h10min às 15h25min – Dinâmica: Mentimeter (vania) \n15h25min às 15h55min – Palestra: Reserva Técnica (Álvaro) \n15h55min às 16h25min – Debate entre as equipes: sugestão de instalações\, acervo\, regimento interno (Vania). \n16h25min às 16h50min – Relato de discussão das equipes (Álvaro) \n16h50min às 17h20min – Palestra: Biblioteca e documentação (Álvaro) \n17h20min às 17h40min – Debate entre as equipes: Interesse na integração da equipe de preservação da memória \nescoteira (Vania) \n17h40min – 17h50min – Apresentação de interesses \n17h50min às 18h – Encerramento (Vania) \nAdequação às regras e condutas\nO evento seguirá de forma integral com as definições do “Princípios\, Organização e Regras (P.O.R.)” da União dos Escoteiros do Brasil. Condutas desrespeitosas para com outros jovens\, escotistas\, equipe de serviço ou qualquer outra pessoa presente no evento não serão toleradas. \nProcedimentos não previstos\nA Organização do evento decidirá quanto a procedimentos não previstos no presente documento ou qualquer excepcionalidade. \nRealização\nCoordenação Regional de Suporte Educacional \nEspecialista: Alvaro Guimarães dos Santos \nOrganização\nCoordenação Regional de Eventos Estratégicos  \nInformações Gerais\nCoordenação Regional de Suporte Educacional \nE-mail: educasuporte@escoteirossp.org.br \nDúvidas sobre o programa do evento\nEscritório Regional de São Paulo dos Escoteiros do Brasil – Programa Educativo \nE-mail: programa@escoteirossp.org.br \nTel.: (11) 3154-5500 Ramal 4 \nDúvidas sobre inscrições do evento\nEscritório Regional de São Paulo dos Escoteiros do Brasil – Eventos \nE-mail: eventos@escoteirossp.org.br \nTel.: (11) 3154-5500 Ramal 2 \n\n Informar no assunto do e-mail o nome do evento e o assunto a que se refere e no corpo do e-mail\, informar nome do evento\, tema\, nome completo\, UEL\, número do registro e telefone para contato.\n\n  \nAcompanhe as novidades do evento pelo site www.escoteirossp.org.br e pela página no Facebook Escoteiros SP. \n  \nSeminário sobre exposição\, montagem de acervo e conservação de objetos 2021
URL:https://www.escoteirossp.org.br/evento/seminario-sobre-exposicao-montagem-de-acervo-e-conservacao-de-objetos-2021/
LOCATION:Online
CATEGORIES:EAD,Seminário
ATTACH;FMTTYPE=image/jpeg:https://www.escoteirossp.org.br/wp/wp-content/uploads/2020/07/IMG_0695-scaled.jpg
END:VEVENT
END:VCALENDAR