BEGIN:VCALENDAR
VERSION:2.0
PRODID:-//Escoteiros SP - ECPv6.15.20//NONSGML v1.0//EN
CALSCALE:GREGORIAN
METHOD:PUBLISH
X-WR-CALNAME:Escoteiros SP
X-ORIGINAL-URL:https://www.escoteirossp.org.br
X-WR-CALDESC:Eventos para Escoteiros SP
REFRESH-INTERVAL;VALUE=DURATION:PT1H
X-Robots-Tag:noindex
X-PUBLISHED-TTL:PT1H
BEGIN:VTIMEZONE
TZID:America/Sao_Paulo
BEGIN:STANDARD
TZOFFSETFROM:-0200
TZOFFSETTO:-0300
TZNAME:-03
DTSTART:20190217T020000
END:STANDARD
END:VTIMEZONE
BEGIN:VEVENT
DTSTART;TZID=America/Sao_Paulo:20200229T093000
DTEND;TZID=America/Sao_Paulo:20200229T123000
DTSTAMP:20260424T070126
CREATED:20200511T185705Z
LAST-MODIFIED:20200511T185705Z
UID:26756-1582968600-1582979400@www.escoteirossp.org.br
SUMMARY:Seminário sobre proposta de novo Estatuto dos Escoteiros do Brasil
DESCRIPTION:A Diretoria Regional\, atendendo ao disposto no artigo 9º da Resolução do Conselho de Administração Nacional (CAN) n. 005/2019\, convida os associados interessados para discussão sobre a proposta de novo Estatuto dos Escoteiros do Brasil. \nData: 29/02/2020 (sábado) \nHorário: das 9h30 às 12h30 \nLocal: \nCasa do Escoteiro de São Paulo “Carlos Battisti” \nRua Coronel Xavier de Toledo\, 316\, 3º andar\, República\, São Paulo/SP\, próximo ao Metrô Anhangabaú \nEstacionamento conveniado – Próx. LOJA MOVIDA – R. da Consolação\, 293\, Consolação\, São Paulo/SP. Carimbe seu ticket na recepção do Escritório Regional. \nInscrições via Meu Paxtu até 27/02/2020\, ou até serem completadas todas as vagas \nQuem pode participar? Pioneiros (as)\, Escotistas e Dirigentes\, com registro escoteiro válido. \nA participação poderá se dar presencialmente ou por videoconferência (link para conexão será informado posteriormente aos inscritos). \nTodos os participantes\, na forma presencial\, devem levar\, obrigatoriamente\, no dia da atividade autorização assinada pela Diretoria da Unidade Escoteira Local. \nFacilitador: \nEuclides Hisatugo \nDiretor Administrativo da Região Escoteira de São Paulo e representante da Região Escoteira de São Paulo na Comissão Estatuinte Nacional.  \nSeminário sobre proposta de novo Estatuto dos Escoteiros do Brasil
URL:https://www.escoteirossp.org.br/evento/seminario-sobre-proposta-de-novo-estatuto-dos-escoteiros-do-brasil/
LOCATION:Casa do Escoteiro de São Paulo “Carlos Battisti”\, Rua Coronel Xavier de Toledo\, 316\, 3º andar\, República\, São Paulo\, SP\, 01048-000\, Brasil
CATEGORIES:Seminário
ATTACH;FMTTYPE=image/jpeg:https://www.escoteirossp.org.br/wp/wp-content/uploads/2020/05/OIN.jpg
ORGANIZER;CN="Diretoria Regional":MAILTO:eventos.sp@escoteiros.org.br
END:VEVENT
END:VCALENDAR