BEGIN:VCALENDAR
VERSION:2.0
PRODID:-//Escoteiros SP - ECPv6.15.20//NONSGML v1.0//EN
CALSCALE:GREGORIAN
METHOD:PUBLISH
X-WR-CALNAME:Escoteiros SP
X-ORIGINAL-URL:https://www.escoteirossp.org.br
X-WR-CALDESC:Eventos para Escoteiros SP
REFRESH-INTERVAL;VALUE=DURATION:PT1H
X-Robots-Tag:noindex
X-PUBLISHED-TTL:PT1H
BEGIN:VTIMEZONE
TZID:America/Sao_Paulo
BEGIN:STANDARD
TZOFFSETFROM:-0300
TZOFFSETTO:-0300
TZNAME:-03
DTSTART:20250101T000000
END:STANDARD
END:VTIMEZONE
BEGIN:VEVENT
DTSTART;VALUE=DATE:20260228
DTEND;VALUE=DATE:20261130
DTSTAMP:20260423T134659
CREATED:20251208T193932Z
LAST-MODIFIED:20260410T145759Z
UID:49591-1772236800-1795996799@www.escoteirossp.org.br
SUMMARY:Cursos CEJ & Bauru 2026
DESCRIPTION:Com o intuito de contribuir com a progressão e com a organização dos Escotistas e Dirigentes dos Escoteiros do Brasil – São Paulo\, a Diretoria Regional\, assim como em 2025\, está lançando agora os cursos de 2026 que acontecerão no Centro Escoteiro Jaraguá e os cursos Intermediários e Avançados que acontecerão na cidade de Bauru. \nOs demais cursos que acontecerão em outros locais serão divulgados ao longo do ano de 2026. \nOnde\nCentro Escoteiro Jaraguá: Rua Adriano Reys\, 1 – Vila Jaraguá São Paulo – São Paulo\nComo chegar: https://maps.app.goo.gl/3GZt6jH9gRm3V5pG7 \nBauru: ADPM Associação Desportiva da Polícia Militar – Regional Bauru/SP \nAvenida Lúcio Luciano\, 11-75 – Pres. Geisel Bauru – São Paulo\nComo chegar: https://maps.app.goo.gl/WmNDBnQf5aEheASTA \nQuem pode se inscrever\nTodos os Escotistas e Dirigentes que tenham o Registro Escoteiro Válido e atendam aos pré-requisitos estabelecidos pela PNAME \nConfira no boletim\, informações de datas de inscrição\, valores\, diretores e mais.\nBoletim – Cursos CEJ & Bauru 2026
URL:https://www.escoteirossp.org.br/evento/cursos-cej-bauru-2026/
LOCATION:SP
CATEGORIES:Cursos,Dirigente,Encontro,Escotista,Formação,Oficina
ATTACH;FMTTYPE=image/png:https://www.escoteirossp.org.br/wp/wp-content/uploads/2025/12/banner_sitecejbauru.png
END:VEVENT
BEGIN:VEVENT
DTSTART;VALUE=DATE:20260307
DTEND;VALUE=DATE:20260601
DTSTAMP:20260423T134659
CREATED:20260131T155947Z
LAST-MODIFIED:20260131T160532Z
UID:50306-1772841600-1780271999@www.escoteirossp.org.br
SUMMARY:Ponta de Lança - 2026
DESCRIPTION:O Ponta de Lança é uma atividade voltada para monitores e sub monitores do Ramo Sênior\, que tem o objetivo de orientar os jovens sobre o papel de líder que desempenham em suas patrulhas.\nNessa atividade os participantes passarão por uma imersão de atividades direcionadoras\, coletivas e divertidas para desenvolver o Sistema de Patrulha\, liderança e tradições do ramo. Venha participar! \nPeríodo de Realização\nEssa atividade poderá ser realizada no período de 07 de março a 31 de maio de 2026\, em local escolhido de acordo com a necessidade e possibilidade de cada Distrito ou UEL. \nParticipação\nPoderão participar do Ponta de Lança os jovens com registro escoteiro válido\, como membro de Tropa Sênior/Guia\, incluindo também os jovens que estiverem em período de transição. Os jovens deverão participar organizados por grupo ou distrito\, acompanhados por um Escotista responsável durante toda a realização da atividade e apresentar autorização devidamente assinada por seus responsáveis legais e pela Diretoria da UEL\, assim como todas as medidas em caso de atividade externa devem ser tomadas pelo Escotista. \nBoletim e Fichas de Atividade
URL:https://www.escoteirossp.org.br/evento/ponta-de-lanca-2026/
LOCATION:SP
CATEGORIES:Descentralizado
ATTACH;FMTTYPE=image/png:https://www.escoteirossp.org.br/wp/wp-content/uploads/2026/01/capaevento_.png
ORGANIZER;CN="Coordena%C3%A7%C3%A3o Regional do Ramo S%C3%AAnior":MAILTO:ramosenior.sp@escoteiros.org.br
END:VEVENT
BEGIN:VEVENT
DTSTART;VALUE=DATE:20260307
DTEND;VALUE=DATE:20260601
DTSTAMP:20260423T134659
CREATED:20260131T155949Z
LAST-MODIFIED:20260206T022820Z
UID:50311-1772841600-1780271999@www.escoteirossp.org.br
SUMMARY:Ponta de Flecha - 2026
DESCRIPTION:O Ponta de Flecha é uma atividade voltada para monitores e sub monitores do Ramo Escoteiro\, que tem o objetivo de orientar os jovens sobre o papel de líder que desempenham em suas patrulhas.\nNessa atividade os participantes passarão por uma imersão de atividades direcionadoras\, coletivas e divertidas para desenvolver o Sistema de Patrulha\, liderança e tradições do ramo. Venha participar! \nPeríodo de Realização\nEssa atividade poderá ser realizada no período de 07 de março a 31 de maio de 2026\, em local escolhido de acordo com a necessidade e possibilidade de cada Distrito ou UEL. \nParticipação\nPoderão participar do Ponta de Flecha os jovens com registro escoteiro válido\, como membro de Tropa Escoteira\, incluindo também os jovens que estiverem em período de Caminho . Os jovens deverão participar organizados por grupo ou distrito\, acompanhados por um Escotista responsável durante toda a realização da atividade e apresentar autorização devidamente assinada por seus responsáveis legais e pela Diretoria da UEL\, assim como todas as medidas em caso de atividade externa devem ser tomadas pelo Escotista. \nBoletim
URL:https://www.escoteirossp.org.br/evento/ponta-de-flecha-2026/
LOCATION:SP
CATEGORIES:Descentralizado
ATTACH;FMTTYPE=image/png:https://www.escoteirossp.org.br/wp/wp-content/uploads/2026/01/Prancheta-1.png
ORGANIZER;CN="Coordena%C3%A7%C3%A3o Regional do Ramo Escoteiro":MAILTO:ramoescoteiro.sp@escoteiros.org.br
END:VEVENT
BEGIN:VEVENT
DTSTART;VALUE=DATE:20260314
DTEND;VALUE=DATE:20260601
DTSTAMP:20260423T134659
CREATED:20260312T194534Z
LAST-MODIFIED:20260312T195616Z
UID:50715-1773446400-1780271999@www.escoteirossp.org.br
SUMMARY:11º MutEPT - Acessibilizando Espaços
DESCRIPTION:O Mutirão Regional Escotismo Para Todos (MutEPT) chega à sua 11ª edição reafirmando um dos valores fundamentais do Movimento Escoteiro: a promoção da inclusão e do respeito à diversidade. A proposta do evento é estimular reflexões e ações que contribuam para a construção de uma sociedade mais justa\, acessível e acolhedora para todas as pessoas. \nEm 2026\, o MutEPT terá como tema “Acessibilizando Espaços”\, destacando a importância da acessibilidade arquitetônica e do desenvolvimento de ambientes pensados para garantir autonomia\, segurança e participação plena de todos\, com ou sem deficiência. Elementos como rampas\, elevadores\, pisos táteis e sinalização adequada serão abordados como ferramentas fundamentais para promover a inclusão. \nA iniciativa também incentiva que as Unidades Escoteiras Locais realizem atividades educativas que despertem consciência\, empatia e respeito\, reforçando o papel do Escotismo na formação cidadã e na transformação social. \nQuando\nDe 14 de março a 31 de maio de 2026. \nOnde\nO evento acontece de forma descentralizada\, permitindo que as Unidades Escoteiras Locais realizem atividades em suas próprias comunidades\, promovendo ações alinhadas ao tema proposto. \nQuem pode participar\nA participação é aberta às Unidades Escoteiras Locais da Região Escoteira de São Paulo\, envolvendo crianças\, adolescentes\, jovens e adultos do Movimento Escoteiro em atividades relacionadas ao tema da inclusão e acessibilidade. \nComo participar\nAs atividades devem ser realizadas pelas Unidades Escoteiras Locais durante o período do evento\, seguindo as orientações e sugestões presentes no boletim oficial. \nOs grupos também são convidados a registrar as atividades por meio de fotos ou vídeos e compartilhar nas redes sociais utilizando as hashtags indicadas no evento. \n  \nBoletim e Caderno de Atividades
URL:https://www.escoteirossp.org.br/evento/11o-mutept-acessibilizando-espacos/
LOCATION:Descentralizado
CATEGORIES:Descentralizado
ATTACH;FMTTYPE=image/png:https://www.escoteirossp.org.br/wp/wp-content/uploads/2026/03/Divulgacao_MutEPT.png
ORGANIZER;CN="Diretoria de Mundo Melhor":MAILTO:mundomelhor.sp@escoteiros.org.br
END:VEVENT
BEGIN:VEVENT
DTSTART;VALUE=DATE:20260414
DTEND;VALUE=DATE:20260621
DTSTAMP:20260423T134659
CREATED:20260331T191920Z
LAST-MODIFIED:20260401T193754Z
UID:50850-1776124800-1781999999@www.escoteirossp.org.br
SUMMARY:CTMar Adultos - 2026
DESCRIPTION:O CT MAR tem como objetivo proporcionar a Escotistas e Dirigentes a capacitação voluntária para prevenção e condução segura de atividades escoteiras em níveis aquáticos e marítimos em variadas configurações de ambientes e regiões. \nO curso também esclarece a finalidade e a formação de um Grupo Escoteiro da Modalidade do Mar como recurso no programa educativo escoteiro\, sugere a formação de equipes de segurança em Unidades Escoteiras Locais (UELs) e cuidados com o patrimônio de uso marítimo. \nAlém disso\, vai capacitar para a prova de Arrais Amador – que será aplicada no curso pela Marinha com data posterior a etapa presencial do curso. \nQuando\n1ª Etapa: EAD/CEV/SINCRONO – Início – 14/04/2026 e Término: 14/05/2026\n2ª Etapa: Presencial – 30 e 31 de Maio/2026\n3ª Etapa: Prova do ARRAIS – 20/06/2026 \nOnde\nComando do Grupamento de Patrulha Naval do Sul-Sudeste (ComGptPatNavSSE) – Av. Perimetral\, 213 – Macuco\, Santos – SP\, 11030-330\nComo chegar: https://maps.app.goo.gl/1FVPfurVj884Se7BA \nQuem pode se inscrever\nA participação no curso é possível para os adultos voluntários\, Escotistas e/ou Dirigentes\, que atendam aos seguintes requisitos:\n• Possuam idade igual ou superior a 18 anos na data de início do curso;\n• Estar com o Registro Escoteiro válido na data do curso;\n• Possuam o certificado de conclusão do “Curso de Proteção Infantojuvenil”;\n• Recomendável ter o Curso Preliminar concluído; \nConfira todas as informações\nBoletim
URL:https://www.escoteirossp.org.br/evento/ctmar-adultos-2026/
LOCATION:Comando do Grupamento de Patrulha Naval do Sul-Sudeste (ComGptPatNavSSE)\, Av. Perimetral\, 213 – Macuco\, Santos\, SP\, 11030-330\, Brazil
ATTACH;FMTTYPE=image/png:https://www.escoteirossp.org.br/wp/wp-content/uploads/2026/03/capaevento_ctamar.png
ORGANIZER;CN="Coordena%C3%A7%C3%A3o Regional da Modalidade do Mar":MAILTO:modalidadedomar.sp@escoteiros.org.br
END:VEVENT
END:VCALENDAR