BEGIN:VCALENDAR
VERSION:2.0
PRODID:-//Escoteiros SP - ECPv6.15.20//NONSGML v1.0//EN
CALSCALE:GREGORIAN
METHOD:PUBLISH
X-ORIGINAL-URL:https://www.escoteirossp.org.br
X-WR-CALDESC:Eventos para Escoteiros SP
REFRESH-INTERVAL;VALUE=DURATION:PT1H
X-Robots-Tag:noindex
X-PUBLISHED-TTL:PT1H
BEGIN:VTIMEZONE
TZID:America/Sao_Paulo
BEGIN:STANDARD
TZOFFSETFROM:-0300
TZOFFSETTO:-0300
TZNAME:-03
DTSTART:20250101T000000
END:STANDARD
END:VTIMEZONE
BEGIN:VEVENT
DTSTART;VALUE=DATE:20260321
DTEND;VALUE=DATE:20260323
DTSTAMP:20260423T194459
CREATED:20260211T234203Z
LAST-MODIFIED:20260320T174429Z
UID:50384-1774051200-1774223999@www.escoteirossp.org.br
SUMMARY:33ª Assembleia Regional Escoteira
DESCRIPTION:A Assembleia Regional é o órgão máximo\, representativo e normativo da Região Escoteira de São Paulo. Em suas reuniões ordinárias ocorrem a prestação de contas do nível Regional do exercício anterior\, ante parecer da Comissão Fiscal Regional e a deliberação do orçamento para o próximo exercício; a apresentação do relatório de atividades da Diretoria Regional; os processos eleitorais para cargos do nível Regional e\ndos delegados representantes da Região Escoteira à Assembleia Nacional\, e assuntos gerais de interesse dos associados. \nQuando\nSábado e domingo\, 21 e 22 de março de 2026. \nOnde\nCentro Universitário Estácio\nRua Abrahao Issa Halak\, 980\, Ribeirânea Ribeirão Preto//SP \nQuem pode participar\nMembros juvenis\, Escotistas e Dirigentes\, com Registro Escoteiro válido. \nEdital de convocação   \nTransunto Delegados \nPasso a Passo – Credenciamento \nPagina para Credenciamento \nLista de Delegados – ARE2026 \nBoletim 1 \nBoletim 2 \nBoletim 3 \nBoletim Comercialização \nCarta de Recomendações do XXIV FRJL SP a ARE \nRoda de Conversa – NRJL \nConsulta à Regularidade do Empregador CNPJ 11 \nCertidões de protesto CNPJ 11 \nCertidão Negativa Conjunta – Tributos Imobiliários CNPJ 11 \nCertidão Negativa Conjunta – Tributos Federais CNPJ 11 \nConsulta à Regularidade do Empregador CNPJ 33 \nCertidões de protesto CNPJ 33 \nCertidão Negativa Conjunta – Tributos Imobiliarios CNPJ 33 \nCertidão Negativa Conjunta – Tributos Federais CNPJ 33 \nDemonstração do Resultado do Exercício 2025 – DRE \nBalanço Consolidado 2025 \nPrevisão Orçamentária 2026 – 2027 \nNotas Explicativas \nCarta de Responsabilidade \nDemonstrativo Financeiro 2025 \nParecer da Comissão Fiscal – Final \nRelatório Anual 2025 \nCandidatos à Mesa e Comissões  \nCandidatos a Delegação Regional Assembleia Escoteira Nacional \nCidade Sede \n  \n 
URL:https://www.escoteirossp.org.br/evento/33a-assembleia-regional-escoteira/
LOCATION:Centro Universitário Estácio\, Rua Abrahao Issa Halak\, 980\, Ribeirânea\, Ribeirão Preto - Sp
CATEGORIES:Assembleia
ATTACH;FMTTYPE=image/png:https://www.escoteirossp.org.br/wp/wp-content/uploads/2026/02/capa_eventossite-scaled.png
ORGANIZER;CN="Diretoria Regional":MAILTO:eventos.sp@escoteiros.org.br
END:VEVENT
END:VCALENDAR