BEGIN:VCALENDAR
VERSION:2.0
PRODID:-//Escoteiros SP - ECPv6.15.20//NONSGML v1.0//EN
CALSCALE:GREGORIAN
METHOD:PUBLISH
X-WR-CALNAME:Escoteiros SP
X-ORIGINAL-URL:https://www.escoteirossp.org.br
X-WR-CALDESC:Eventos para Escoteiros SP
REFRESH-INTERVAL;VALUE=DURATION:PT1H
X-Robots-Tag:noindex
X-PUBLISHED-TTL:PT1H
BEGIN:VTIMEZONE
TZID:America/Sao_Paulo
BEGIN:STANDARD
TZOFFSETFROM:-0300
TZOFFSETTO:-0300
TZNAME:-03
DTSTART:20230101T000000
END:STANDARD
END:VTIMEZONE
BEGIN:VEVENT
DTSTART;VALUE=DATE:20241102
DTEND;VALUE=DATE:20241202
DTSTAMP:20260425T115246
CREATED:20240904T204029Z
LAST-MODIFIED:20240904T204029Z
UID:45336-1730505600-1733097599@www.escoteirossp.org.br
SUMMARY:CTMAR: Curso Técnico Modalidade do Mar - 2º semestre/2024
DESCRIPTION:O CTMAR tem como objetivo proporcionar a Escotistas e Dirigentes a capacitação voluntária para prevenção e condução segura de atividades escoteiras em níveis aquáticos e marítimos em variadas configurações de ambientes e regiões. \nO curso também esclarece a finalidade e a formação de um Grupo Escoteiro da Modalidade do MAR como recurso no programa escoteiro\, sugere a formação de equipes de segurança em Unidades Escoteiras Locais (UELs) e cuidados com o patrimônio de uso marítimo. Além disso\, vai capacitar para a prova de Arrais Amador – que será aplicada no curso pela Marinha. \nQuando\nEncontro Síncrono: 21 de outubro\, das 20h30 às 22h\n1a Etapa: 02 e 03 de novembro de 2024\n2a Etapa: 30 de novembro e 01 de dezembro \nOnde\nCapitania de Portos de São Paulo – Marinha do Brasil\nCais da Marinha\nAv. Eng. Ismael Coelho De Souza\, s/n – Macuco\nSantos – SP\nComo chegar: https://maps.app.goo.gl/czdabaxkjBgNZdz59 \nComo se inscrever\nExclusivamente via Meu PAXTU\, na área de Eventos\, da 0h01 do dia 06 de setembro de 2024 a 30 de setembro de 2024\, ou até serem preenchidas todas as vagas. \nConfira todas as informações:\nBoletim
URL:https://www.escoteirossp.org.br/evento/ctmar-curso-tecnico-modalidade-do-mar-2o-semestre-2024/
LOCATION:Capitania de Portos de São Paulo – Marinha do Brasil\, Av. Eng. Ismael Coelho De Souza\, s/n – Macuco\, Santos\, SP\, 11015-911\, Brasil
CATEGORIES:Cursos,Modalidade do Mar
ATTACH;FMTTYPE=image/png:https://www.escoteirossp.org.br/wp/wp-content/uploads/2024/02/bannersite_ctmar.png
ORGANIZER;CN="Coordena%C3%A7%C3%A3o Regional da Modalidade do Mar":MAILTO:modalidadedomar.sp@escoteiros.org.br
END:VEVENT
END:VCALENDAR