BEGIN:VCALENDAR
VERSION:2.0
PRODID:-//Escoteiros SP - ECPv6.15.20//NONSGML v1.0//EN
CALSCALE:GREGORIAN
METHOD:PUBLISH
X-WR-CALNAME:Escoteiros SP
X-ORIGINAL-URL:https://www.escoteirossp.org.br
X-WR-CALDESC:Eventos para Escoteiros SP
REFRESH-INTERVAL;VALUE=DURATION:PT1H
X-Robots-Tag:noindex
X-PUBLISHED-TTL:PT1H
BEGIN:VTIMEZONE
TZID:America/Sao_Paulo
BEGIN:STANDARD
TZOFFSETFROM:-0300
TZOFFSETTO:-0300
TZNAME:-03
DTSTART:20240101T000000
END:STANDARD
END:VTIMEZONE
BEGIN:VEVENT
DTSTART;VALUE=DATE:20250201
DTEND;VALUE=DATE:20251201
DTSTAMP:20260424T134330
CREATED:20241126T153908Z
LAST-MODIFIED:20250411T155006Z
UID:46060-1738368000-1764547199@www.escoteirossp.org.br
SUMMARY:Cursos 2025 - Realização CEJ
DESCRIPTION:Com o intuito de contribuir com a progressão e também com a organização dos Escotistas e Dirigente dos Escoteiros do Brasil – São Paulo\, a Diretoria Regional inovou e já está lançando os cursos de 2025 que acontecerão no Centro Escoteiro Jaraguá. \nOs cursos que acontecerão em outros locais serão lançados no ano que vem. \nOnde\nCentro Escoteiro Jaraguá\nRua Adriano Reys\, 1 – Vila Jaraguá\, São Paulo – SP \nComo chegar: https://maps.app.goo.gl/3GZt6jH9gRm3V5pG7 \nQuem pode participar\nTodos os Escotistas e Dirigentes que tenham o Registro Escoteiro Válido e atendam aos pré-requisitos estabelecidos pela PNAME.\n \nComo se inscrever\nExclusivamente via Meu PAXTU\, na área de Eventos – vide tabelas presentes no boletim\, de acordo com a data de cada curso.\n \nConfira o boletim:\nBoletim – Cursos 2025 CEJ
URL:https://www.escoteirossp.org.br/evento/cursos-2025-realizacao-cej/
LOCATION:Centro Escoteiro Jaraguá (CEJ)\, R. Adriano Reys\, 1\, Vila Jaraguá\, São Paulo\, São Paulo\, Brasil
CATEGORIES:Cursos
ATTACH;FMTTYPE=image/png:https://www.escoteirossp.org.br/wp/wp-content/uploads/2024/11/sitecursos.png
ORGANIZER;CN="Diretoria Regional de M%C3%A9todos Educativos - Gest%C3%A3o de Adultos":MAILTO:voluntariado.sp@escoteiros.org.br
END:VEVENT
END:VCALENDAR