BEGIN:VCALENDAR
VERSION:2.0
PRODID:-//Escoteiros SP - ECPv6.15.20//NONSGML v1.0//EN
CALSCALE:GREGORIAN
METHOD:PUBLISH
X-WR-CALNAME:Escoteiros SP
X-ORIGINAL-URL:https://www.escoteirossp.org.br
X-WR-CALDESC:Eventos para Escoteiros SP
REFRESH-INTERVAL;VALUE=DURATION:PT1H
X-Robots-Tag:noindex
X-PUBLISHED-TTL:PT1H
BEGIN:VTIMEZONE
TZID:America/Sao_Paulo
BEGIN:STANDARD
TZOFFSETFROM:-0300
TZOFFSETTO:-0300
TZNAME:-03
DTSTART:20230101T000000
END:STANDARD
END:VTIMEZONE
BEGIN:VEVENT
DTSTART;VALUE=DATE:20241005
DTEND;VALUE=DATE:20241007
DTSTAMP:20260425T154028
CREATED:20240702T133418Z
LAST-MODIFIED:20240806T190546Z
UID:44961-1728086400-1728259199@www.escoteirossp.org.br
SUMMARY:Rally Regional de Lobinhos - “Do Olimpo à Paris”
DESCRIPTION:Mais uma vez comemoraremos o Dia do Lobinho com a nossa mais tradicional atividade regional: o Rally de Lobinhos. Evocando o espírito de fraternidade escoteira de nossas Alcateias\, convidamos os Distritos da Região Escoteira de São Paulo a participarem da nossa versão do maior evento esportivo do mundo. \nTema\nViajando no tempo e espaço exploraremos as atividades esportivas tradicionais desses jogos mundiais. A denominação “Do Olimpo à Paris” remete às origens à atualidade desse evento. \nQuando\nA ser realizado entre os dias 05/10/2024 e 06/10/2024.\nPor motivos eleitorais\, recomendamos àqueles que utilizam de espaços escolares\, a realizar o evento uma semana antes ou uma semana depois. \nCaderno de Atividades\nO Caderno de Atividades será lançado no Encontro Regional de Coordenadores Distritais a ser realizado em 03 de agosto de 2024.\n \nConfira o boletim \nCaderno de Atividades
URL:https://www.escoteirossp.org.br/evento/rally-regional-de-lobinhos-do-olimpo-a-paris/
CATEGORIES:Descentralizado
ATTACH;FMTTYPE=image/png:https://www.escoteirossp.org.br/wp/wp-content/uploads/2024/07/bannersiterally.png
END:VEVENT
END:VCALENDAR