BEGIN:VCALENDAR
VERSION:2.0
PRODID:-//Escoteiros SP - ECPv6.15.20//NONSGML v1.0//EN
CALSCALE:GREGORIAN
METHOD:PUBLISH
X-ORIGINAL-URL:https://www.escoteirossp.org.br
X-WR-CALDESC:Eventos para Escoteiros SP
REFRESH-INTERVAL;VALUE=DURATION:PT1H
X-Robots-Tag:noindex
X-PUBLISHED-TTL:PT1H
BEGIN:VTIMEZONE
TZID:America/Sao_Paulo
BEGIN:STANDARD
TZOFFSETFROM:-0300
TZOFFSETTO:-0300
TZNAME:-03
DTSTART:20240101T000000
END:STANDARD
END:VTIMEZONE
BEGIN:VEVENT
DTSTART;VALUE=DATE:20250201
DTEND;VALUE=DATE:20250601
DTSTAMP:20260424T221300
CREATED:20250201T140045Z
LAST-MODIFIED:20250227T202203Z
UID:46423-1738368000-1748735999@www.escoteirossp.org.br
SUMMARY:Ponta de Lança 2025
DESCRIPTION:O Ponta de Lança é uma atividade voltada para monitores e sub monitores do Ramo Sênior\, que tem o objetivo de orientar os jovens sobre o papel de líder que desempenham em suas patrulhas. Nessa atividade os participantes passarão por uma imersão de atividades direcionadoras\, coletivas e divertidas para desenvolver o Sistema de Patrulha\, liderança e tradições do ramo.\nVenha participar! \nPeríodo de Realização\nEssa atividade poderá ser realizada no período de 01 de fevereiro de 2025 a 31 de Maio de 2025\, de acordo com a necessidade e possibilidade de cada Distrito ou UEL. \nParticipação\nPoderão participar do Ponta de Lança: os jovens com registro escoteiro válido\, como membro de Tropa Sênior/Guia\, incluindo também os jovens que estiverem em período de transição. Os jovens deverão participar organizados por grupo ou distrito\, acompanhados por um Escotista responsável durante toda a realização da atividade e apresentar autorização devidamente assinada por seus responsáveis legais e pela Diretoria da UEL\, assim como todas as medidas em caso de atividade externa devem ser tomadas pelo Escotista. \nConfira o boletim \nModelo de Certificado
URL:https://www.escoteirossp.org.br/evento/ponta-de-lanca-2025/
CATEGORIES:Descentralizado,Ramo Sênior
ATTACH;FMTTYPE=image/png:https://www.escoteirossp.org.br/wp/wp-content/uploads/2025/01/pontadelancasite.png
ORGANIZER;CN="Coordena%C3%A7%C3%A3o Regional do Ramo S%C3%AAnior":MAILTO:ramosenior.sp@escoteiros.org.br
END:VEVENT
BEGIN:VEVENT
DTSTART;VALUE=DATE:20250222
DTEND;VALUE=DATE:20250224
DTSTAMP:20260424T221300
CREATED:20241205T210218Z
LAST-MODIFIED:20250207T185327Z
UID:46103-1740182400-1740355199@www.escoteirossp.org.br
SUMMARY:2ª edição Missão Sênior: Operação 24 horas
DESCRIPTION:O 2° Missão Sênior: Operação 24 horas é uma atividade online e descentralizada\, ou seja\, cada unidade Escoteira local poderá realizar as atividades em sede ou no local escolhido pelo grupo\, desde que tenha acesso a internet. \nEssa atividade tem por objetivo promover a integração\, intercâmbio e confraternização dos seniores/guias e escotistas\, incentivando o desenvolvimento da cidadania dos jovens\, na busca de conhecimentos gerais\, e estimulando\, ainda\, a cooperação entre os elementos da patrulha. Tem a finalidade de promover atividades diversificadas na prática do Escotismo\, cooperando como instrumento do programa educativo através das redes sociais\, tão utilizadas pelos jovens. \nQuando\nNos dias 22 e 23 de fevereiro de 2025\, com início às 10 horas do dia 22 e término às 10 horas do dia 23.\n \nQuem pode participar\nPoderão participar do 2° Missão Sênior: Operação 24 Horas os jovens com registro escoteiro válido como membros de Tropa Sênior/Guia\, incluindo também os jovens a partir de 14 anos e meio que estiverem em período de transição. \nOs jovens deverão participar organizados por grupo\, acompanhados por um Escotista responsável durante toda a realização da atividade e os jovens participantes deverão apresentar autorização devidamente assinada pelos seus responsáveis legais e pela Diretoria da UEL. \nInscrição\nA inscrição individual deverá ser feita exclusivamente via MEU PAXTU\, de 13 de janeiro de 2025 até o dia 10 de fevereiro de 2025.\nNão haverá custo para a inscrição na atividade.\n \nBoletim \nBoletim 2
URL:https://www.escoteirossp.org.br/evento/2a-edicao-missao-senior-operacao-24-horas/
CATEGORIES:Descentralizado
ATTACH;FMTTYPE=image/png:https://www.escoteirossp.org.br/wp/wp-content/uploads/2024/12/capasite_missao.png
ORGANIZER;CN="Coordena%C3%A7%C3%A3o Regional do Ramo S%C3%AAnior":MAILTO:ramosenior.sp@escoteiros.org.br
END:VEVENT
END:VCALENDAR