BEGIN:VCALENDAR
VERSION:2.0
PRODID:-//Escoteiros SP - ECPv6.15.20//NONSGML v1.0//EN
CALSCALE:GREGORIAN
METHOD:PUBLISH
X-ORIGINAL-URL:https://www.escoteirossp.org.br
X-WR-CALDESC:Eventos para Escoteiros SP
REFRESH-INTERVAL;VALUE=DURATION:PT1H
X-Robots-Tag:noindex
X-PUBLISHED-TTL:PT1H
BEGIN:VTIMEZONE
TZID:America/Sao_Paulo
BEGIN:STANDARD
TZOFFSETFROM:-0300
TZOFFSETTO:-0300
TZNAME:-03
DTSTART:20240101T000000
END:STANDARD
END:VTIMEZONE
BEGIN:VEVENT
DTSTART;VALUE=DATE:20250823
DTEND;VALUE=DATE:20250825
DTSTAMP:20260424T082635
CREATED:20250627T205216Z
LAST-MODIFIED:20250814T181336Z
UID:47744-1755907200-1756079999@www.escoteirossp.org.br
SUMMARY:Mega Pioneirias Sênior
DESCRIPTION:Você está pronto para elevar suas habilidades a um novo nível? A atividade Mega Pioneirias é o momento épico onde o Ramo Sênior transforma materiais simples e boas ideias em estruturas funcionais e criativas! \nMais do que simplesmente construir\, essa é uma oportunidade de mostrar liderança\, trabalho em equipe e domínio das técnicas escoteiras. Cada projeto é uma obra coletiva que exige estratégia\, cooperação e ousadia — e os resultados são impressionantes! O objetivo? Superar os próprios desafios e deixar uma marca que inspire e fortaleça o espírito escoteiro. \nQuando e onde\nData: O período para realização do Mega Pioneirias será dias 23 e 24 de Agosto de 2025\nLocal: Descentralizado\, por Distrito\, Unidade Escoteira Local (UEL) ou Equipe de Interesse\n \nParticipação\nPoderão participar os jovens com registro escoteiro válido\, como membro de Tropa Sênior/Guia\, incluindo também os jovens que estiverem em período de transição. Os jovens deverão participar organizados por patrulha\, equipe de interesse\, grupo ou distrito\, acompanhados por um Escotista responsável durante toda a realização da atividade e apresentar autorização devidamente assinada por seus responsáveis legais e pela Diretoria da UEL\, assim como todas as medidas em caso de atividade externa devem ser tomadas pelo Escotista. \nConfira todas as informações!\nBoletim
URL:https://www.escoteirossp.org.br/evento/mega-pioneirias-senior/
CATEGORIES:Descentralizado,Ramo Senio
ATTACH;FMTTYPE=image/png:https://www.escoteirossp.org.br/wp/wp-content/uploads/2025/06/site.png
ORGANIZER;CN="Coordena%C3%A7%C3%A3o Regional do Ramo S%C3%AAnior":MAILTO:ramosenior.sp@escoteiros.org.br
END:VEVENT
BEGIN:VEVENT
DTSTART;VALUE=DATE:20250824
DTEND;VALUE=DATE:20250928
DTSTAMP:20260424T082635
CREATED:20250818T150005Z
LAST-MODIFIED:20250818T150005Z
UID:48396-1755993600-1759017599@www.escoteirossp.org.br
SUMMARY:2º Festival de Comida Mateira
DESCRIPTION:O 2º Festival de Comidas Mateiras é uma atividade escoteira regional descentralizada\, ou seja\, cada tropa e/ou patrulha poderá realizar as atividades em sede ou em um acampamento em momentos diferentes\, desde que seja dentro do período deste Regulamento. As atividades terão início em 24 de agosto de 2025 e término em 27 de setembro de 2025. \nEste festival visa que as patrulhas escoteiras desenvolvam e aprimorem suas habilidades no que é considerado hoje uma das principais tradições do Escotismo mundial: a comida mateira. O festival tem finalidade cultural e artística\, com objetivo de ser uma grande confraternização dentro das tropas escoteiras\, e divulgando para toda a Região Escoteira de São Paulo diversas receitas saborosas e criativas. Após o encerramento do Festival\, será lançado um livro digital de Receitas Mateiras. \nParticipação\n– Poderão participar do 2º Festival de Comidas Mateiras os jovens com registro escoteiro válido\, como membro de Tropa Escoteira e Lobinhos(as)\, a Caminho do Ramo Escoteiro.\n– Os jovens interessados só poderão participar após terem lido e concordado com este regulamento do evento.\n– Os jovens deverão participar organizados em patrulhas\, seguindo a quantidade de jovens regulamentada pelo POR\, de quatro a oito jovens.\n \nInscrições\nO evento “2º Festival de Comidas Mateiras – Ramo Escoteiro”\, deverá ser lançada no Paxtu como Atividade Regional\, dentro do prazo de realização do evento.  \nConfira todas as informações no boletim!
URL:https://www.escoteirossp.org.br/evento/2o-festival-de-comida-mateira/
LOCATION:Descentralizado
CATEGORIES:Descentralizado,Ramo Escoteiro
ATTACH;FMTTYPE=image/png:https://www.escoteirossp.org.br/wp/wp-content/uploads/2025/08/bannersite.png
ORGANIZER;CN="Coordena%C3%A7%C3%A3o Regional do Ramo Escoteiro":MAILTO:ramoescoteiro.sp@escoteiros.org.br
END:VEVENT
END:VCALENDAR