BEGIN:VCALENDAR
VERSION:2.0
PRODID:-//Escoteiros SP - ECPv6.15.20//NONSGML v1.0//EN
CALSCALE:GREGORIAN
METHOD:PUBLISH
X-ORIGINAL-URL:https://www.escoteirossp.org.br
X-WR-CALDESC:Eventos para Escoteiros SP
REFRESH-INTERVAL;VALUE=DURATION:PT1H
X-Robots-Tag:noindex
X-PUBLISHED-TTL:PT1H
BEGIN:VTIMEZONE
TZID:America/Sao_Paulo
BEGIN:STANDARD
TZOFFSETFROM:-0300
TZOFFSETTO:-0300
TZNAME:-03
DTSTART:20230101T000000
END:STANDARD
END:VTIMEZONE
BEGIN:VEVENT
DTSTART;TZID=America/Sao_Paulo:20240803T090000
DTEND;TZID=America/Sao_Paulo:20240803T140000
DTSTAMP:20260425T115402
CREATED:20240628T143502Z
LAST-MODIFIED:20240628T144347Z
UID:44942-1722675600-1722693600@www.escoteirossp.org.br
SUMMARY:Encontro de Coordenadores Distritais
DESCRIPTION:O Encontro Regional de Coordenadores tem como objetivo ouvir Coordenadores e Comissários Distritais e provocar a reflexão acerca do fortalecimento dos Distritos Escoteiros e\, consequentemente\, da Região Escoteira de São Paulo. É um momento oportuno para envolvimento\, confraternização e troca de experiências no cotidiano de seus Distritos. \nQuando\nSábado\, 03 de agosto de 2024.\nAbertura (prevista) às 9h e encerramento (previsto) às 14h; credenciamento a partir das 8h. \nOnde\nFatec Americana – Faculdade de Tecnologia de Americana Ministro Ralph Biasi\nEndereço: Rua Emílio de Menezes\, S/N – Gleba B\, Americana – SP\nhttps://maps.app.goo.gl/qTSvhafq372ZkKBr5\n \nQuem pode participar \n\nCoordenadores Distritais de Ramos Lobinho\, Escoteiro\, Sênior e Pioneiro;\nCoordenadores Distritais de Gestão de Adultos;\nCoordenadores Distritais das Modalidades do Ar\, do Mar e Radio Escotismo;\nCoordenadores Distritais do Mundo Melhor;\nCoordenadores Distritais de Crescimento e Expansão.\n\nNa impossibilidade de participação do Coordenador ou caso o Distrito não possua um Coordenador nomeado para a função\, pedimos que seja enviado um representante; o Comissário Distrital também pode participar representando um Coordenador. \nTodos os Coordenadores deverão ser indicados pelo Comissário Distrital através do formulário – bit.ly/EncCoordDistrital2024. \nComo se Inscrever\nExclusivamente via Meu PAXTU\, das 00h01 de 27 de junho a até às 23h59 de 28 de julho de 2024. \nConfira todas as informações:\nBoletim – Encontro de Coordenadores Distritais
URL:https://www.escoteirossp.org.br/evento/encontro-de-coordenadores-distritais-2/
LOCATION:FATEC Americana\, Rua Emílio de Menezes\, S/N – Gleba B\, Americana\, São Paulo
CATEGORIES:Encontro
ATTACH;FMTTYPE=image/png:https://www.escoteirossp.org.br/wp/wp-content/uploads/2024/06/Design-sem-nome.png
ORGANIZER;CN="Diretoria Regional":MAILTO:eventos.sp@escoteiros.org.br
END:VEVENT
BEGIN:VEVENT
DTSTART;TZID=America/Sao_Paulo:20240810T090000
DTEND;TZID=America/Sao_Paulo:20240810T130000
DTSTAMP:20260425T115402
CREATED:20240725T190617Z
LAST-MODIFIED:20240725T190617Z
UID:44976-1723280400-1723294800@www.escoteirossp.org.br
SUMMARY:Café entre Velhos Amigos 2024
DESCRIPTION:O Café entre Velhos Amigos é uma interação entre Escotistas e Dirigentes com objetivo de reunir os Velhos Lobos com a visão sobre a sua atuação e também para a troca de boas práticas. \nComo o Movimento Escoteiro é fundamentado na vida em equipe\, nas interações e nas relações que são construídas com o meio ambiente\, a natureza e o mundo ao seu redor\, neste evento buscamos proporcionar um momento para fortalecer os laços entre os voluntários mais antigos dos Escoteiros do Brasil – Região São Paulo. \nQuando\nSábado\, 10 de agosto de 2024\, das 9h às 13h. \nOnde\nCentro Escoteiro Jaraguá\nRua Adriano Reys\, 1 – Vila Jaraguá\, São Paulo/SP.\nComo chegar: https://goo.gl/maps/4q2tSo5ZKmUP3hPu6\n \nQuem pode participar\nTodos os associados que têm data da primeira Promessa antes de 1994 ininterruptos. Lembrando que a inscrição só será validada se essa informação estiver contida no Paxtu; caso contrário\, a inscrição será automaticamente cancelada (todos os inscritos vão passar por esta triagem\, não havendo exceções). \nConfira as informações\nBoletim \n 
URL:https://www.escoteirossp.org.br/evento/cafe-entre-velhos-amigos-2024/
LOCATION:Centro Escoteiro Jaraguá (CEJ)\, R. Adriano Reys\, 1\, Vila Jaraguá\, São Paulo\, São Paulo\, Brasil
CATEGORIES:Encontro
ATTACH;FMTTYPE=image/png:https://www.escoteirossp.org.br/wp/wp-content/uploads/2024/07/Design-sem-nome-2.png
ORGANIZER;CN="Diretoria Regional":MAILTO:eventos.sp@escoteiros.org.br
END:VEVENT
BEGIN:VEVENT
DTSTART;VALUE=DATE:20240831
DTEND;VALUE=DATE:20240902
DTSTAMP:20260425T115402
CREATED:20240731T211220Z
LAST-MODIFIED:20240814T210807Z
UID:45078-1725062400-1725235199@www.escoteirossp.org.br
SUMMARY:Encontro Regional de Jovens Lideres 2024
DESCRIPTION:Preparem-se para mais uma aventura! O nosso Encontro Regional de Jovens Líderes (o Encontrinho) está chegando! Dessa vez\, o Núcleo Regional de São Paulo está pronto para viajar até o Vale da Paz em busca de encontrar o Dragão Guerreiro presente dentro de cada um de nós. Chegou a hora de treinar os seus talentos\, fazer amigos e criar memórias e aprendizados para a vida! \nQuando\n31 de agosto e 1 de setembro de 2024 (sábado e domingo)\n \nOnde\nIAM – Instituição Assistencial Meimei.Boletim_encontrinho2024\nRua Francisco Alves\, 275\, Paulicéia – São Bernardo do Campo/SP \nQuem pode participar\nPioneiros\, escotistas e dirigentes\, entre 18 e 25 anos de idade\, com registro escoteiro válido. \nQuanto\nPioneiros\, escotistas e dirigentes\, entre 18 e 25 anos de idade\nR$ 40\,00  Parcelado em 2 vezes no boleto bancário\n \nAssociados isentos\nPioneiros\, escotistas e dirigentes\, entre 18 e 25 anos de idade:\nR$ 10\,00 (dez reais) \nEscotista\nAcima de 26 anos\, que vai acompanhando os Pioneiros\nR$ 20\,00 (vinte reais) \nComo se inscrever\nExclusivamente via Meu PAXTU\, na área de Eventos\, das 0h do dia 01 de agosto de 2024 até às 23h59 do dia 25 de agosto de 2024\, ou até serem contempladas todas as vagas.\n \nBoletim 1 \nBoletim 2
URL:https://www.escoteirossp.org.br/evento/encontro-regional-de-jovens-lideres-2024/
LOCATION:IAM – Instituição Assistencial Meimei\, Rua Francisco Alves\, 275\, Paulicéia\, São Bernardo do Campo\, São Paulo
CATEGORIES:Encontro
ATTACH;FMTTYPE=image/png:https://www.escoteirossp.org.br/wp/wp-content/uploads/2024/07/bannersite_encontrinho.png
ORGANIZER;CN="N%C3%BAcleo Regional de Jovens L%C3%ADderes":MAILTO:jovens.lideres@escoteirossp.org.br
END:VEVENT
BEGIN:VEVENT
DTSTART;VALUE=DATE:20240831
DTEND;VALUE=DATE:20240902
DTSTAMP:20260425T115402
CREATED:20240814T211726Z
LAST-MODIFIED:20240814T213655Z
UID:45191-1725062400-1725235199@www.escoteirossp.org.br
SUMMARY:Encontro de Capacitação de Formadores 2024 - 2º Semestre
DESCRIPTION:Promovido pelo Nível Regional\, tem o objetivo de apresentar ferramentas sobre as dinâmicas básicas da atuação como formador\, tais como a aplicação de unidades didáticas e a conduta na tarefa. \nOnde\nCentro Escoteiro Jaraguá\, São Paulo\nAdriano Reys\, 1 – Vila Jaraguá\, São Paulo – SP\, 05164-020 \nQuando\n31 de agosto e 01 de setembro de 2024 \nQuem pode participar\n \nEscotistas e Dirigentes que: \n– Estejam em dia com seus registros associativos na União dos Escoteiros do Brasil\, e com suas obrigações administrativas e financeiras com a Unidade Escoteira Local;\n– Possuir as competências necessárias para atuar como formador (IM ou especialista);\n– Sejam indicados por seus Comissário Distritais;\n– Tenham as recomendações dos seus Assessores Pessoais de Formação.\n– Conforme a Resolução CAN 05/2021 que altera as Regras 130\, 131 e 132 do P.O.R. (Princípios\, Organização e Regras)\nhttps://escoteiros.org.br/wp-content/uploads/2021/06/ResolucaoCAN05_2021.pdf \nLimite de vagas\n \n40 vagas para cada curso\, sendo 35 para atender às indicações do Distritos e 5 para indicações estratégicas da Diretoria Regional. Cada Comissário poderá indicar até 3 nomes de voluntários que estejam registrados em UEL que pertençam ao seu Distrito Escoteiro e que atendam os pré-requisitos. \nA Diretoria Regional\, no uso de suas atribuições\, vai definir os participantes baseado nos seguintes pré requisitos:\n• Quantidade de formadores ativos do distrito\n• Quantidade de enviados no últimos 2 ECF\n• Verificação se o indicado já foi indicado anteriormente\n• Verificação do tempo como IM \nQuanto\nR$ 180\,00 (cento e oitenta reais).\nInclui: alimentação e material para as Unidades Didáticas \nConfira a lista dos indicados
URL:https://www.escoteirossp.org.br/evento/encontro-de-capacitacao-de-formadores-2024-2o-semestre/
LOCATION:Centro Escoteiro Jaraguá (CEJ)\, R. Adriano Reys\, 1\, Vila Jaraguá\, São Paulo\, São Paulo\, Brasil
CATEGORIES:Encontro
ATTACH;FMTTYPE=image/jpeg:https://www.escoteirossp.org.br/wp/wp-content/uploads/2024/03/Boletim_ECF-pdf-1-e1709559938475.jpg
END:VEVENT
END:VCALENDAR