BEGIN:VCALENDAR
VERSION:2.0
PRODID:-//Escoteiros SP - ECPv6.15.20//NONSGML v1.0//EN
CALSCALE:GREGORIAN
METHOD:PUBLISH
X-ORIGINAL-URL:https://www.escoteirossp.org.br
X-WR-CALDESC:Eventos para Escoteiros SP
REFRESH-INTERVAL;VALUE=DURATION:PT1H
X-Robots-Tag:noindex
X-PUBLISHED-TTL:PT1H
BEGIN:VTIMEZONE
TZID:America/Sao_Paulo
BEGIN:STANDARD
TZOFFSETFROM:-0300
TZOFFSETTO:-0300
TZNAME:-03
DTSTART:20250101T000000
END:STANDARD
END:VTIMEZONE
BEGIN:VEVENT
DTSTART;TZID=America/Sao_Paulo:20260131T080000
DTEND;TZID=America/Sao_Paulo:20260207T140000
DTSTAMP:20260423T222240
CREATED:20260108T200234Z
LAST-MODIFIED:20260122T124802Z
UID:50012-1769846400-1770472800@www.escoteirossp.org.br
SUMMARY:Encontro Sudeste de Escotistas e Dirigentes - ESED
DESCRIPTION:O Encontro Sudeste de Escotistas e Dirigentes – ESED 2026 será um grande encontro de energia\, tradição e propósito. Um momento para celebrar o que nos une como escoteiros do Sudeste (ES\, MG\, RJ e SP) e fortalecer nossos laços em torno do mesmo ideal: construir um mundo melhor. Realizado em Minas Gerais\, o evento reunirá diretores\, escotistas e jovens líderes em um espaço de aprendizado\, troca de experiências e diálogo. Será uma oportunidade para compartilhar boas práticas\, conhecer novas ideias e se inspirar com ações que transformam o cotidiano do Movimento Escoteiro. Com uma programação viva e dinâmica\, o ESED trará debates e vivências sobre gestão\, cidadania\, liderança e serviço. Cada conversa\, cada troca e cada encontro refletirão a força da nossa região\, diversa\, criativa e unida\, que carrega em si a cultura\, o calor humano e o espírito de servir. Mais do que um evento\, o ESED será um mosaico de histórias\, gerações e sonhos. Um azulejo colorido que representa o futuro do escotismo no Sudeste. \nQuando\n31 de janeiro e 01 de fevereiro de 2026 \nOnde\nEscola Sesi Granbery- Juiz de Fora – MG\nConforme a programação\, o início do evento está previsto para as 8h do dia 31 de janeiro (sábado)\, com o check-in sendo iniciado às 7h. O encerramento do ESED está previsto para as 14h do dia 01 de fevereiro (domingo). \nQuem pode participar\nPodem participar diretores regionais\, diretores de UEL’s\, coordenadores\, membros de equipes regionais autorizados pela sua Diretoria Regional\, escotistas e jovens líderes das Regiões Escoteiras dos quatro Estados da Região Sudeste (ES\, MG\, RJ e SP) com registro institucional ativo. \nComo se inscrever\nA inscrição será realizada individualmente pelo Meu Paxtu ou Paxtu Adm.\nInscrições e pagamento do evento deverão ser realizadas até o dia 14/01/2026\n \nBoletim 1 \nBoletim 2
URL:https://www.escoteirossp.org.br/evento/encontro-sudeste-de-escotistas-e-dirigentes-esed/
CATEGORIES:Encontro
ATTACH;FMTTYPE=image/png:https://www.escoteirossp.org.br/wp/wp-content/uploads/2026/01/ESED-STORY-1-1.png
END:VEVENT
BEGIN:VEVENT
DTSTART;TZID=America/Sao_Paulo:20260207T080000
DTEND;TZID=America/Sao_Paulo:20260207T180000
DTSTAMP:20260423T222240
CREATED:20251218T135535Z
LAST-MODIFIED:20260129T153734Z
UID:49947-1770451200-1770487200@www.escoteirossp.org.br
SUMMARY:Indabas 2026 – Modalidades e Radioescotismo
DESCRIPTION:Os Indabas das modalidades do Ar\, Mar e RadioEscotismo serão um grande encontro de Escotistas e Dirigentes interessados em aumentar seu conhecimento e atualizar práticas\, ampliar o repertório de recursos didáticos\, despertar novas ideias para atividades e promover reflexões para uma melhor compreensão do Movimento Escoteiro e também da atualização do programa educativo escoteiro. \nQuando\n07 de fevereiro\nCheck-in: das 08h às 08h50\nEvento: das 9h às 18h \nOnde\nE.E. Convenção de Itu\nPraça Conde de Parnaíba\, nº 422\, Centro\, Itu – SP\, CEP 13300-000 \nQuem pode participar\nEscotistas e Dirigentes\, com Registro Escoteiro válido. \nComo se inscrever\nExclusivamente via Meu PAXTU\, na área de Eventos\, da 00h01 do dia 20 de Dezembro de 2025 até às 23h59min do dia 23 de janeiro de 2026 ou até serem preenchidas todas as vagas. \nBoletim \nBoletim 2 \nComercialização
URL:https://www.escoteirossp.org.br/evento/indabas-2026-modalidades-e-radioescotismo/
LOCATION:E.E. Convenção de Itu\, Praça Conde de Parnaíba\, nº 422 - Centro\, Itu
CATEGORIES:Encontro,Escotista,Modalidade do Ar,Modalidade do Mar,Radioescotismo
ATTACH;FMTTYPE=image/png:https://www.escoteirossp.org.br/wp/wp-content/uploads/2025/12/banner_siteMODAL.RADIO_.png
END:VEVENT
BEGIN:VEVENT
DTSTART;TZID=America/Sao_Paulo:20260208T080000
DTEND;TZID=America/Sao_Paulo:20260208T200000
DTSTAMP:20260423T222240
CREATED:20251219T121821Z
LAST-MODIFIED:20260129T160223Z
UID:49974-1770537600-1770580800@www.escoteirossp.org.br
SUMMARY:Encontro Regional de IMs e Formadores 2026
DESCRIPTION:O Encontro Regional de IMs e Formadores é uma iniciativa da pasta de Métodos Educativos da Região Escoteira de São Paulo e tem o objetivo de proporcionar uma troca de experiências\, ideias e conceitos sobre o processo de formação de adultos dos Escoteiros do Brasil e também de alinhar e atualizar os formadores junto à sua função no Nível Regional. \nConforme o Marco de Referência da Insígnia de Madeira é papel dos IMs apoiar a implantação do Programa Educativo\, bem como auxiliar outros adultos no Movimento Escoteiro. Assim\, enviamos este convite a todos os voluntários portadores da Insígnia de Madeira que\, além de já possuir a Insígnia\, também tenham interesse em conhecer a atuação do voluntário em Nível Regional nas áreas de Programa Educativo\, Gestão Institucional e Gestão de Adultos. \nQuando\n08 de Fevereiro de 2025\, Domingo\nCheck-in: das 08h às 08h50 Evento: das 9h às 18h \nERRATA IMPORTANTE\nRetificando o boletim 1\, informamos que\, nesta edição do Encontro Regional de IMs e Formadores\, não haverá o Encontro de Gilwell. \nOnde\nE.E. Convenção de Itu\nPraça Conde de Parnaíba\, no 422\, Centro\, Itu – SP\, CEP 13300-000\n \nQuem pode participar\nEscotistas e Dirigentes\, portadores da Insígnia de Madeira\, com o Registro Escoteiro válido.\n \nConfira todas as informações!\nBoletim \nBoletim 2 \nComercialização
URL:https://www.escoteirossp.org.br/evento/encontro-regional-de-ims-e-formadores-2026/
LOCATION:E.E. Convenção de Itu\, Praça Conde de Parnaíba\, nº 422 - Centro\, Itu
CATEGORIES:Encontro
ATTACH;FMTTYPE=image/png:https://www.escoteirossp.org.br/wp/wp-content/uploads/2025/12/banner_site.png
END:VEVENT
BEGIN:VEVENT
DTSTART;TZID=America/Sao_Paulo:20260222T083000
DTEND;TZID=America/Sao_Paulo:20260222T130000
DTSTAMP:20260423T222240
CREATED:20260203T173827Z
LAST-MODIFIED:20260203T182904Z
UID:50334-1771749000-1771765200@www.escoteirossp.org.br
SUMMARY:Gestão na Estrada 2026 - Edição Santos
DESCRIPTION:Após o sucesso da primeira edição do Gestão na Estrada\, a Diretoria regional mantém seu compromisso de ter uma atuação verdadeiramente ativa e próxima da realidade das UELs\, além de estimular o crescimento e fortalecimento das UELs\, estabelecido pela instituição através do esforço humano organizado pela Gestão Regional com a finalidade de solução de problemas\, aproximação da estrutura regional e ser um facilitador da prática do Escotismo em seu local de atuação. \nOnde\nUniversidade Federal de São Paulo – UNIFESP\nRua Carvalho de Mendonça\, 144 – Encruzilhada – Santos/SP – CEP: 11070-100\n \nQuando\nDomingo\, 22 de fevereiro.\nDas 8h30 às 13h \nQuem pode participar\n• Escotistas e Dirigentes das UELs pertencentes aos Distritos: 13º Distrito Escoteiro Costa Da Mata Atlântica e 34º Distrito Escoteiro.\n• Coordenadores e membros das Equipes Distritais do Distritos: 13º Distrito Escoteiro Costa Da Mata Atlântica e 34o Distrito Escoteiro. \nConfira todas as informações\nBoletim
URL:https://www.escoteirossp.org.br/evento/gestao-na-estrada-2025-edicao-santos/
CATEGORIES:Dirigente,Encontro,Escotista
ATTACH;FMTTYPE=image/png:https://www.escoteirossp.org.br/wp/wp-content/uploads/2026/02/CapaSite_eventogestaonaestrada.png
ORGANIZER;CN="Diretoria Regional":MAILTO:eventos.sp@escoteiros.org.br
END:VEVENT
BEGIN:VEVENT
DTSTART;VALUE=DATE:20260228
DTEND;VALUE=DATE:20261130
DTSTAMP:20260423T222240
CREATED:20251208T193932Z
LAST-MODIFIED:20260410T145759Z
UID:49591-1772236800-1795996799@www.escoteirossp.org.br
SUMMARY:Cursos CEJ & Bauru 2026
DESCRIPTION:Com o intuito de contribuir com a progressão e com a organização dos Escotistas e Dirigentes dos Escoteiros do Brasil – São Paulo\, a Diretoria Regional\, assim como em 2025\, está lançando agora os cursos de 2026 que acontecerão no Centro Escoteiro Jaraguá e os cursos Intermediários e Avançados que acontecerão na cidade de Bauru. \nOs demais cursos que acontecerão em outros locais serão divulgados ao longo do ano de 2026. \nOnde\nCentro Escoteiro Jaraguá: Rua Adriano Reys\, 1 – Vila Jaraguá São Paulo – São Paulo\nComo chegar: https://maps.app.goo.gl/3GZt6jH9gRm3V5pG7 \nBauru: ADPM Associação Desportiva da Polícia Militar – Regional Bauru/SP \nAvenida Lúcio Luciano\, 11-75 – Pres. Geisel Bauru – São Paulo\nComo chegar: https://maps.app.goo.gl/WmNDBnQf5aEheASTA \nQuem pode se inscrever\nTodos os Escotistas e Dirigentes que tenham o Registro Escoteiro Válido e atendam aos pré-requisitos estabelecidos pela PNAME \nConfira no boletim\, informações de datas de inscrição\, valores\, diretores e mais.\nBoletim – Cursos CEJ & Bauru 2026
URL:https://www.escoteirossp.org.br/evento/cursos-cej-bauru-2026/
CATEGORIES:Cursos,Dirigente,Encontro,Escotista,Formação,Oficina
ATTACH;FMTTYPE=image/png:https://www.escoteirossp.org.br/wp/wp-content/uploads/2025/12/banner_sitecejbauru.png
END:VEVENT
END:VCALENDAR