BEGIN:VCALENDAR
VERSION:2.0
PRODID:-//Escoteiros SP - ECPv6.15.20//NONSGML v1.0//EN
CALSCALE:GREGORIAN
METHOD:PUBLISH
X-ORIGINAL-URL:https://www.escoteirossp.org.br
X-WR-CALDESC:Eventos para Escoteiros SP
REFRESH-INTERVAL;VALUE=DURATION:PT1H
X-Robots-Tag:noindex
X-PUBLISHED-TTL:PT1H
BEGIN:VTIMEZONE
TZID:America/Sao_Paulo
BEGIN:STANDARD
TZOFFSETFROM:-0300
TZOFFSETTO:-0300
TZNAME:-03
DTSTART:20230101T000000
END:STANDARD
END:VTIMEZONE
BEGIN:VEVENT
DTSTART;TZID=America/Sao_Paulo:20240922T090000
DTEND;TZID=America/Sao_Paulo:20240922T143000
DTSTAMP:20260425T100831
CREATED:20240903T184515Z
LAST-MODIFIED:20240903T184515Z
UID:45324-1726995600-1727015400@www.escoteirossp.org.br
SUMMARY:Gestão na Estrada: Edição Butantã
DESCRIPTION:O objetivo é o de crescimento e fortalecimento das Unidades Escoteiras Locais\, estabelecido pela instituição através do esforço humano organizado pela Gestão Regional com a finalidade de aproximação da estrutura regional\, solução de problemas e de ser um facilitador da prática do Escotismo em seu local de atuação. \nAlém disso\, a Gestão na Estrada vai ao encontro dos compromissos assumidos pela Gestão de ter uma atuação verdadeiramente ativa e próxima da realidade das UEL’s e será também uma ferramenta de aplicação do Planejamento Estratégico Nacional. \nOnde\nEscola Estadual Alberto Torres\nAvenida Vital Brasil\, 1.260 – Butantã\nSão Paulo / SP\nComo chegar: https://maps.app.goo.gl/XhA1MiDWHNbuJMQS7 \nQuando\nDomingo\, 22 de setembro.\nDas 9h às 14h30 \nQuem pode participar \n\nEscotistas e Dirigentes das UELs pertencentes ao 3º DE São Paulo de Piratininga\, 8º DE Butantã\, 9º DE Villas-Boas e 10º DE Oeste.\nCoordenadores e membros das Equipes Distritais do 3º DE São Paulo de Piratininga\, 8º DE Butantã\, 9º DE Villas-Boas e 10º DE Oeste.\n\nConfira todas as informações\nBoletim
URL:https://www.escoteirossp.org.br/evento/gestao-na-estrada-edicao-butanta/
LOCATION:Escola Estadual Alberto Torres\, Avenida Vital Brasil\, 1260 – Butantã\, São Paulo\, SP\, 05503-000\, Brasil
CATEGORIES:Encontro
ATTACH;FMTTYPE=image/png:https://www.escoteirossp.org.br/wp/wp-content/uploads/2023/01/capa-site-1.png
ORGANIZER;CN="Diretoria Regional":MAILTO:eventos.sp@escoteiros.org.br
END:VEVENT
END:VCALENDAR