BEGIN:VCALENDAR
VERSION:2.0
PRODID:-//Escoteiros SP - ECPv6.15.20//NONSGML v1.0//EN
CALSCALE:GREGORIAN
METHOD:PUBLISH
X-ORIGINAL-URL:https://www.escoteirossp.org.br
X-WR-CALDESC:Eventos para Escoteiros SP
REFRESH-INTERVAL;VALUE=DURATION:PT1H
X-Robots-Tag:noindex
X-PUBLISHED-TTL:PT1H
BEGIN:VTIMEZONE
TZID:America/Sao_Paulo
BEGIN:STANDARD
TZOFFSETFROM:-0300
TZOFFSETTO:-0300
TZNAME:-03
DTSTART:20250101T000000
END:STANDARD
END:VTIMEZONE
BEGIN:VEVENT
DTSTART;VALUE=DATE:20260604
DTEND;VALUE=DATE:20260608
DTSTAMP:20260423T201112
CREATED:20251030T150023Z
LAST-MODIFIED:20260410T144223Z
UID:49112-1780531200-1780876799@www.escoteirossp.org.br
SUMMARY:4º Jangalcamp 2026
DESCRIPTION:Lobo\, Lobo\, Lobo!!!\n\nJANGALCAMP É O BICHO! \nAnunciamos o 4° Jangalcamp\, chegando com força total! \nVamos mergulhar no mundo dos bichos\, brincar\, rever amigos\, fazer outros e nos divertir muito. \nPreparem suas mochilas e se inscrevam no Jangalcamp. \nVamos viver momentos inesquecíveis na melhor caçada de 2026 \nQuando\nDe 4 a 7 de junho de 2026\, durante o feriado de Corpus Christi. \nOnde\nEspaço de Eventos Monteiro LobatoRua Antônio Aparecido Ferraz\, 1111 – Parque Santa Isabel\, Sorocaba/SPComo chegar \nQuem pode participar\n\nLobinhos(as): de 6 anos e meio completos a 11 anos incompletos\, com Registro Escoteiro válido e Promessa do Lobinho realizada.\nEscotistas acompanhantes: com Curso Preliminar Escotista\, Promessa Escoteira e Registro Escoteiro válido.\nAcompanhantes Terapêuticos (ATs): responsáveis pelo apoio a jovens com necessidades específicas.\nEquipe de Serviço: maiores de 18 anos\, com Registro Escoteiro válido\, atuando nas áreas de Programa\, Logística\, Infraestrutura\, Atendimento Médico e Segurança.\n\nComo se inscrever\nExclusivamente via Meu PAXTU\, de 1º de novembro de 2025 a 3 de maio de 2026\, ou até o preenchimento das vagas. \nAs vagas para lobinhos já estão encerradas\, com a participação estando mediante lista de espera! \n  \nConfira o boletim: \nBoletim 1 \nComercialização \n 
URL:https://www.escoteirossp.org.br/evento/4o-jangalcamp-2026/
LOCATION:Espaço de Eventos Monteiro Lobato\, R. Antônio Aparecido Ferraz\, 1111\, Sorocaba\, SP\, Brazil
CATEGORIES:Acampamento,Acantonamento,Ramo Lobinho
ATTACH;FMTTYPE=image/png:https://www.escoteirossp.org.br/wp/wp-content/uploads/2026/04/Capa_Evento.png
END:VEVENT
END:VCALENDAR