BEGIN:VCALENDAR
VERSION:2.0
PRODID:-//Escoteiros SP - ECPv6.15.20//NONSGML v1.0//EN
CALSCALE:GREGORIAN
METHOD:PUBLISH
X-WR-CALNAME:Escoteiros SP
X-ORIGINAL-URL:https://www.escoteirossp.org.br
X-WR-CALDESC:Eventos para Escoteiros SP
REFRESH-INTERVAL;VALUE=DURATION:PT1H
X-Robots-Tag:noindex
X-PUBLISHED-TTL:PT1H
BEGIN:VTIMEZONE
TZID:America/Sao_Paulo
BEGIN:STANDARD
TZOFFSETFROM:-0300
TZOFFSETTO:-0300
TZNAME:-03
DTSTART:20250101T000000
END:STANDARD
END:VTIMEZONE
BEGIN:VEVENT
DTSTART;TZID=America/Sao_Paulo:20260228T100000
DTEND;TZID=America/Sao_Paulo:20260301T100000
DTSTAMP:20260423T150650
CREATED:20251209T130840Z
LAST-MODIFIED:20260202T211409Z
UID:49638-1772272800-1772359200@www.escoteirossp.org.br
SUMMARY:Missão Sênior: Operação 24 Horas - 2026
DESCRIPTION:O Missão Sênior: Operação 24 Horas é uma atividade online\, participativa e totalmente formulada para ser aplicada diretamente pelas Unidades Escoteiras Locais. A proposta envolve integração\, cidadania\, conhecimentos gerais e a vivência prática da patrulha por meio de desafios que estimulam criatividade\, cooperação e protagonismo dos jovens. Durante as 24 horas\, as patrulhas desenvolverão tarefas simultâneas com Escoteiros e Escoteiras de diversas regiões escoteiras\, fortalecendo o espírito de aventura e trabalho em equipe. \n  \nQuando\nA atividade terá início às 10h do dia 28 de fevereiro de 2026 (sábado) e terminará às 10h do dia 1º de março de 2026 (domingo). \n  \nOnde\nA aplicação será realizada pela Unidade Escoteira Local\, podendo ocorrer na própria sede ou em outro local escolhido pela UEL\, desde que haja acesso à internet. \n  \nQuem pode participar\nPoderão participar do Missão Sênior: Operação 24 Horas jovens com registro escoteiro válido como membros de Tropa Sênior/Guia\, incluindo também os jovens a partir de 14 anos e meio que estiverem em período de transição. \nOs jovens deverão participar organizados por grupo\, acompanhados por um Escotista responsável durante toda a realização da atividade e os jovens participantes deverão apresentar autorização devidamente assinada pelos seus responsáveis legais e pela Diretoria da UEL. \n  \nComo se inscrever\nAs inscrições serão feitas individualmente pelo Meu Paxtu\, na área de Eventos\, de 12 de janeiro até 13 de fevereiro de 2026 inscrições prorrogadas até 27 de fevereiro de 2026\, não havendo custo para participação. \n  \nBoletim 1 \nBoletim 2 \n  \n 
URL:https://www.escoteirossp.org.br/evento/missao-senior-operacao-24-horas-2026/
LOCATION:São Paulo
CATEGORIES:Descentralizado,Ramo Sênior
ATTACH;FMTTYPE=image/png:https://www.escoteirossp.org.br/wp/wp-content/uploads/2025/12/Thumbnail_Site.png
ORGANIZER;CN="Diretoria Regional de M%C3%A9todos Educativos - Programa Educativo":MAILTO:programa.sp@escoteiros.org.br
END:VEVENT
END:VCALENDAR